BEGIN:VCALENDAR
VERSION:2.0
PRODID:-//ChamberMaster//Event Calendar 2.0//EN
METHOD:PUBLISH
X-PUBLISHED-TTL:P3D
REFRESH-INTERVAL:P3D
CALSCALE:GREGORIAN
BEGIN:VEVENT
DTSTART:20200129T183000Z
DTEND:20200129T200000Z
X-MICROSOFT-CDO-ALLDAYEVENT:FALSE
SUMMARY:MASH Compliance in Traffic Control L&L (01.29.20)
DESCRIPTION:As of December 31\, 2019 UDOT is being required to use MASH certified devices in temporary traffic control.  Glenn Blackwelder and Shawn Debenham will go over what this means for sign supports\, barrels\, temporary barrier\, etc.\n\n\n\nPresenter: Glenn Blackwelder & Shawn Debenham\, UDOT Traffic and Safety
X-ALT-DESC;FMTTYPE=text/html:<span style="font-weight:normal\;"><span style="font-family:tahoma\,sans-serif\;"><span style="font-size:10.0pt\;">As of December 31\, 2019 UDOT is being required to use MASH certified devices in temporary traffic control.&nbsp\; Glenn Blackwelder and Shawn Debenham will go over what this means for sign supports\, barrels\, temporary barrier\, etc.</span></span></span><br />\n<br />\n<span style="text-indent:0.5in\;"><span style="font-family:tahoma\,sans-serif\;"><span style="font-size:10pt\;">Presenter: </span></span></span><span style="text-indent:0.5in\;"><span style="font-family:tahoma\,sans-serif\;"><span style="font-size:10pt\;">Glenn Blackwelder &amp\; Shawn Debenham\, UDOT Traffic and Safety</span></span></span>
LOCATION:AGC of Utah 2207 South 1070 West Salt Lake City UT 84119
UID:e.3104.14003
SEQUENCE:3
DTSTAMP:20260420T235137Z
URL:https://members.agc-utah.org/events/details/mash-compliance-in-traffic-control-l-l-01-29-20-14003
END:VEVENT

END:VCALENDAR
