BEGIN:VCALENDAR
VERSION:2.0
PRODID:-//ChamberMaster//Event Calendar 2.0//EN
METHOD:PUBLISH
X-PUBLISHED-TTL:P3D
REFRESH-INTERVAL:P3D
CALSCALE:GREGORIAN
BEGIN:VEVENT
DTSTART:20200306T190000Z
DTEND:20200306T200000Z
X-MICROSOFT-CDO-ALLDAYEVENT:FALSE
SUMMARY:Member Orientation - St. George (03.06.20)
DESCRIPTION:The AGC of Utah would be pleased if you would join us at our Member Luncheon Orientation. This event is to inform you on the services that AGC of Utah offers to your company to help you get the competitive edge in today's ever changing construction market. This orientation will also give you an opportunity to ask questions\, network\, and familiarize yourself with the AGC of Utah staff. We hope to see you there!\n\n\n\nTOPICS TO BE DISCUSSED:\n\n  AGC of Utah events and networking opportunities\n\n  Plan Room services\n\n  AGC of Utah Committees and other ways to get involved\n\n  Member exclusive discount programs
X-ALT-DESC;FMTTYPE=text/html:The AGC of Utah would be pleased if you would join us at our Member Luncheon Orientation. This event is to inform you on the services that AGC of Utah offers to your company to help you get the competitive edge in today&rsquo\;s ever changing construction market. This orientation will also give you an opportunity to ask questions\, network\, and familiarize yourself with the AGC of Utah staff. We hope to see you there!<br />\n<br />\nTOPICS TO BE DISCUSSED:<br />\n&#61623\; AGC of Utah events and networking opportunities<br />\n&#61623\; Plan Room services<br />\n&#61623\; AGC of Utah Committees and other ways to get involved<br />\n&#61623\; Member exclusive discount programs
LOCATION:Southern Utah AGC 230 North 1680 East B-1 St. George UT 84790
UID:e.3104.14010
SEQUENCE:3
DTSTAMP:20260421T032208Z
URL:https://members.agc-utah.org/events/details/member-orientation-st-george-03-06-20-14010
END:VEVENT

END:VCALENDAR
