BEGIN:VCALENDAR
VERSION:2.0
PRODID:-//ChamberMaster//Event Calendar 2.0//EN
METHOD:PUBLISH
X-PUBLISHED-TTL:P3D
REFRESH-INTERVAL:P3D
CALSCALE:GREGORIAN
BEGIN:VEVENT
DTSTART:20210304T170000Z
DTEND:20210304T190000Z
X-MICROSOFT-CDO-ALLDAYEVENT:FALSE
SUMMARY:Mental Health & Construction - St. George (03.04.21)
DESCRIPTION:Utah has the 6th highest rate of suicide among all states and the construction industry has the second highest rate of suicide among all occupations.  Construction companies need to look at "what's under the hard hat".  Stress\, anxiety and presentee-ism are impacting jobsite productivity\, quality\, risk and safety.  Mental Health and Suicide Prevention are a construction leadership issue.  Leaders at all levels need to address the elephants in the room of mental health\, substance misuse and suicide. \n\n\n\nPresenter: Cal Beyer\, CSDZ\n\n*Virtual Instructor
X-ALT-DESC;FMTTYPE=text/html:<br />\nUtah has the 6th highest rate of suicide among all states and the construction industry has the second highest rate of suicide among all occupations.&nbsp\; Construction companies need to look at &quot\;what&#39\;s under the hard hat&quot\;.&nbsp\; Stress\, anxiety and presentee-ism are impacting jobsite productivity\, quality\, risk and safety.&nbsp\; Mental Health and Suicide Prevention are a construction leadership issue.&nbsp\; Leaders at all levels need to address the elephants in the room of mental health\, substance misuse and suicide.&nbsp\;<br />\n<br />\n<strong>Presenter: Cal Beyer\, CSDZ</strong><br />\n*Virtual Instructor
LOCATION:Webinar *Login information will be sent the day before class
UID:e.3104.14231
SEQUENCE:3
DTSTAMP:20260420T180057Z
URL:https://members.agc-utah.org/events/details/mental-health-construction-st-george-03-04-21-14231
END:VEVENT

END:VCALENDAR
