BEGIN:VCALENDAR
VERSION:2.0
PRODID:-//ChamberMaster//Event Calendar 2.0//EN
METHOD:PUBLISH
X-PUBLISHED-TTL:P3D
REFRESH-INTERVAL:P3D
CALSCALE:GREGORIAN
BEGIN:VEVENT
DTSTART;VALUE=DATE:20200706
DTEND;VALUE=DATE:20200707
TRANSP:TRANSPARENT
X-MICROSOFT-CDO-ALLDAYEVENT:TRUE
SUMMARY:Mental Health First Aid (July 6 & 8th\, 2020)
DESCRIPTION:Mental Health First Aid is a skills based training course that teaches participants about mental health and substance abuse issues.  \n\n\n\nThis class is for HR directors\, supervisors\, managers\, executives and safety professionals and will help with understanding how to recognize mental health issues and how to appropriately provide resources and assistance to people who need help.\n\n\n\nPresenter: Vanessa Knickerbocker
X-ALT-DESC;FMTTYPE=text/html:Mental Health First Aid is a skills based training course that teaches participants about mental health and substance abuse issues.&nbsp\;&nbsp\;<br />\n<br />\nThis class is for HR directors\, supervisors\, managers\, executives and safety professionals and will help with understanding how to recognize mental health issues and how to appropriately provide resources and assistance to people who need help.<br />\n<br />\nPresenter: Vanessa Knickerbocker
LOCATION:AGC Headquarters 2207 South 1070 West Salt Lake City UT 84119
UID:e.3104.14074
SEQUENCE:3
DTSTAMP:20260421T055031Z
URL:https://members.agc-utah.org/events/details/mental-health-first-aid-july-6-8th-2020-14074
END:VEVENT

END:VCALENDAR
