BEGIN:VCALENDAR
VERSION:2.0
PRODID:-//ChamberMaster//Event Calendar 2.0//EN
METHOD:PUBLISH
X-PUBLISHED-TTL:P3D
REFRESH-INTERVAL:P3D
CALSCALE:GREGORIAN
BEGIN:VEVENT
DTSTART:20210318T133000Z
DTEND:20210318T223000Z
X-MICROSOFT-CDO-ALLDAYEVENT:FALSE
SUMMARY:MSHA Part 48 - Annual Refresher Training (03.18.21)
DESCRIPTION:Mining operations demand that workers maintain focus on safety at all times. Accordingly\, the Mine Safety and Health Administration (MSHA) requires a refresher training course every year for miners working in surface mining sites to reinforce proper methods for workplace safety. This course provides a comprehensive view of key topics to help all workers recognize and mitigate hazards in mining environments.\n\n \n\n*Qualifies for AGC WCF Safety Credit \n\n \n\nPresenter: Chelly Heninger\, Awareness Is Key Safety Services
X-ALT-DESC;FMTTYPE=text/html:<span style="font-weight:normal\;"><span style="font-family:tahoma\,sans-serif\;"><span style="font-size:10.0pt\;">Mining operations demand that workers maintain focus on safety at all times. Accordingly\, the Mine Safety and Health Administration (MSHA) requires a refresher training course every year for miners working in surface mining sites to reinforce proper methods for workplace safety. This course provides a comprehensive view of key topics to help all workers recognize and mitigate hazards in mining environments.</span></span></span><br />\n&nbsp\;<br />\n<span style="font-weight:normal\;"><span style="font-family:tahoma\,sans-serif\;"><span style="font-size:10.0pt\;">*Qualifies for AGC WCF Safety Credit </span></span></span><br />\n&nbsp\;<br />\n<strong><span style="font-family:tahoma\,sans-serif\;"><span style="font-size:10.0pt\;">Presenter: Chelly Heninger\, Awareness Is Key Safety Services</span></span></strong>
LOCATION:AGC Training Center 1260 South 3600 West Salt Lake City UT 84104
UID:e.3104.14215
SEQUENCE:3
DTSTAMP:20260420T175734Z
URL:https://members.agc-utah.org/events/details/msha-part-48-annual-refresher-training-03-18-21-14215
END:VEVENT

END:VCALENDAR
