BEGIN:VCALENDAR
VERSION:2.0
PRODID:-//ChamberMaster//Event Calendar 2.0//EN
METHOD:PUBLISH
X-PUBLISHED-TTL:P3D
REFRESH-INTERVAL:P3D
CALSCALE:GREGORIAN
BEGIN:VEVENT
DTSTART:20200221T190000Z
DTEND:20200221T200000Z
X-MICROSOFT-CDO-ALLDAYEVENT:FALSE
SUMMARY:New Member Orientation (February 2020)
DESCRIPTION:So\, you've joined AGC of Utah\, now what?\n\n\n\nJoin us for a New Member Orientation Luncheon!  We'll get you networking with other contractors and service suppliers and tell you how to sign up for AGC's member benefit discounts.  This luncheon will give you the chance to meet our staff and hear firsthand of the programs and services available to you as an AGC of Utah member.\n\n\n\nDuring the orientation\, you will learn how to:\n\n	Join a committee and start making your mark on the industry.\n	Register for our Member Benefit Discount programs.\n	Make the most of your membership
X-ALT-DESC;FMTTYPE=text/html:So\, you&#39\;ve joined AGC of Utah\, now what?<br />\n<br />\nJoin us for a New Member Orientation Luncheon!&nbsp\; We&#39\;ll get you networking with other contractors and service suppliers and tell you how to sign up for AGC&#39\;s member benefit discounts.&nbsp\; This luncheon will give you the chance to meet our staff and hear firsthand of the programs and services available to you as an AGC of Utah member.<br />\n<br />\nDuring the orientation\, you will learn how to:\n<ul>\n	<li>Join a committee and start making your mark on the industry.</li>\n	<li>Register for our Member Benefit Discount programs.</li>\n	<li>Make the most of your membership</li>\n</ul>\n
LOCATION:AGC of Utah 2207 South 1070 West Salt Lake City UT 84119
UID:e.3104.14011
SEQUENCE:3
DTSTAMP:20260421T032355Z
URL:https://members.agc-utah.org/events/details/new-member-orientation-february-2020-14011
END:VEVENT

END:VCALENDAR
