BEGIN:VCALENDAR
VERSION:2.0
PRODID:-//ChamberMaster//Event Calendar 2.0//EN
METHOD:PUBLISH
X-PUBLISHED-TTL:P3D
REFRESH-INTERVAL:P3D
CALSCALE:GREGORIAN
BEGIN:VEVENT
DTSTART:20200421T143000Z
DTEND:20200421T220000Z
X-MICROSOFT-CDO-ALLDAYEVENT:FALSE
SUMMARY:NUCA Competent Person Training for Trenching & Excavating - Live Webinar (04.21.20)
DESCRIPTION:The Competent Person Training Seminar covers requirements pertaining to excavations\, trenching and sloping techniques\, protective systems and soils classifications\, and an introduction to confined space entry safety. The course will include a written 50 question test at the end of class and a certificate of completion.\n\n\n\nInstructor: Greg Shreenan\, CPT / CSE Trainer
X-ALT-DESC;FMTTYPE=text/html:The Competent Person Training Seminar covers requirements pertaining to excavations\, trenching and sloping techniques\, protective systems and soils classifications\, and an introduction to confined space entry safety. The course will include a written 50 question test at the end of class and a certificate of completion.<br />\n<br />\nInstructor: Greg Shreenan\, CPT / CSE Trainer
LOCATION:AGC Southern Utah 230 North 1680 East B-1 St. George UT 84790
UID:e.3104.14056
SEQUENCE:3
DTSTAMP:20260421T051648Z
URL:https://members.agc-utah.org/events/details/nuca-competent-person-training-for-trenching-excavating-live-webinar-04-21-20-14056
END:VEVENT

END:VCALENDAR
