BEGIN:VCALENDAR
VERSION:2.0
PRODID:-//ChamberMaster//Event Calendar 2.0//EN
METHOD:PUBLISH
X-PUBLISHED-TTL:P3D
REFRESH-INTERVAL:P3D
CALSCALE:GREGORIAN
BEGIN:VEVENT
DTSTART;VALUE=DATE:20200827
DTEND;VALUE=DATE:20200829
TRANSP:TRANSPARENT
X-MICROSOFT-CDO-ALLDAYEVENT:TRUE
SUMMARY:OSHA 10 Hour Course (August 2020)
DESCRIPTION:The OSHA 10 hour training is performed by an authorized OSHA outreach instructor with over 20 years in the construction industry.\n\n\n\nThe class is applicable for everybody in the construction industry\, although a portion of it will be devoted specifically to UDOT safety standards. The training is appropriate for craftsmen\, foremen\, supervisors\, project managers and inspectors involved in the construction field. From this training you can expect to receive a better understanding of:\n\n\n\n  The need to work safe\n\n  Hazard recognition and avoidance\n\n  How the OSHA standards apply to the workforce and why they are important\n\n\n\nPresenter: Chelly Hininger\, Awareness Is Key Safety Services\n\n\n\n*Qualifies for AGC WCF Safety Credit\n\n*Fulfills the new UDOT standards requirement for OSHA certification for all contractors and subcontractors
X-ALT-DESC;FMTTYPE=text/html:The OSHA 10 hour training is performed by an authorized OSHA outreach instructor with over 20 years in the construction industry.<br />\n<br />\n<span style="font-family:tahoma\,sans-serif\;"><span style="font-size:10.0pt\;">The class is applicable for everybody in the construction industry\, although a portion of it will be devoted specifically to UDOT safety standards. The training is appropriate for craftsmen\, foremen\, supervisors\, project managers and inspectors involved in the construction field. From this training you can expect to receive a better understanding of:</span></span><br />\n<br />\n&#61623\; The need to work safe<br />\n&#61623\; Hazard recognition and avoidance<br />\n&#61623\; How the OSHA standards apply to the workforce and why they are important<br />\n<br />\nPresenter: Chelly Hininger\, Awareness Is Key Safety Services<br />\n<br />\n*Qualifies for AGC WCF Safety Credit<br />\n*Fulfills the new UDOT standards requirement for OSHA certification for all contractors and subcontractors<br />\n&nbsp\;
LOCATION:AGC of Utah Training Center 1260 South 3600 West Salt Lake City UT 84104
UID:e.3104.14104
SEQUENCE:3
DTSTAMP:20260421T053740Z
URL:https://members.agc-utah.org/events/details/osha-10-hour-course-august-2020-14104
END:VEVENT

END:VCALENDAR
