BEGIN:VCALENDAR
VERSION:2.0
PRODID:-//ChamberMaster//Event Calendar 2.0//EN
METHOD:PUBLISH
X-PUBLISHED-TTL:P3D
REFRESH-INTERVAL:P3D
CALSCALE:GREGORIAN
BEGIN:VEVENT
DTSTART;VALUE=DATE:20191031
DTEND;VALUE=DATE:20191102
TRANSP:TRANSPARENT
X-MICROSOFT-CDO-ALLDAYEVENT:TRUE
SUMMARY:OSHA 10 Hour Course in Spanish (October 2019)
DESCRIPTION:The OSHA 10 hour training is performed by an authorized OSHA outreach instructor with over 20 years in the construction industry.\n\n\n\nThe training is appropriate for workers\, foremen\, supervisors\, and inspectors involved in the construction field. From this training you can expect to get a better understanding of:\n\n\n\n  The need to work safe\n\n  Hazard recognition and avoidance\n\n  How the OSHA standards apply to the workforce and why they are important\n\n\n\nPresenters: Cesar Calvillo\, Estuardo Perez\, Roberto Gomez
X-ALT-DESC;FMTTYPE=text/html:The OSHA 10 hour training is performed by an authorized OSHA outreach instructor with over 20 years in the construction industry.<br />\n<br />\nThe training is appropriate for workers\, foremen\, supervisors\, and inspectors involved in the construction field. From this training you can expect to get a better understanding of:<br />\n<br />\n&#61623\; The need to work safe<br />\n&#61623\; Hazard recognition and avoidance<br />\n&#61623\; How the OSHA standards apply to the workforce and why they are important<br />\n<br />\nPresenters: Cesar Calvillo\, Estuardo Perez\, Roberto Gomez
LOCATION:AGC Training Center 1260 South 3600 West Salt Lake City UT 84104
UID:e.3104.13951
SEQUENCE:3
DTSTAMP:20260420T191409Z
URL:https://members.agc-utah.org/events/details/osha-10-hour-course-in-spanish-october-2019-13951
END:VEVENT

END:VCALENDAR
