BEGIN:VCALENDAR
VERSION:2.0
PRODID:-//ChamberMaster//Event Calendar 2.0//EN
METHOD:PUBLISH
X-PUBLISHED-TTL:P3D
REFRESH-INTERVAL:P3D
CALSCALE:GREGORIAN
BEGIN:VEVENT
DTSTART;VALUE=DATE:20200911
DTEND;VALUE=DATE:20200913
TRANSP:TRANSPARENT
X-MICROSOFT-CDO-ALLDAYEVENT:TRUE
SUMMARY:OSHA 10 Hour Course in Spanish (September 2020)
DESCRIPTION:The OSHA 10 hour training is performed by an authorized OSHA outreach instructor with over 20 years in the construction industry.\n\n\n\nThe training is appropriate for workers\, foremen\, supervisors\, project managers and inspectors involved in the construction field. From this training you can expect to receive a better understanding of:\n\n\n\n  The need to work safely\n\n  Hazard recognition and avoidance\n\n  How the OSHA standards apply to the workforce and why they are important\n\n\n\nPresenter: Corporate Safety Group\n\n\n\n*Qualifies for AGC/WCF Worker's Comp Credit
X-ALT-DESC;FMTTYPE=text/html:The OSHA 10 hour training is performed by an authorized OSHA outreach instructor with over 20 years in the construction industry.<br />\n<br />\nThe training is appropriate for workers\, foremen\, supervisors\, project managers and inspectors involved in the construction field. From this training you can expect to receive a better understanding of:<br />\n<br />\n&#61623\; The need to work safely<br />\n&#61623\; Hazard recognition and avoidance<br />\n&#61623\; How the OSHA standards apply to the workforce and why they are important<br />\n<br />\nPresenter: Corporate Safety Group<br />\n<br />\n*Qualifies for AGC/WCF Worker&#39\;s Comp Credit
LOCATION:AGC Training Center 1260 South 3600 West Salt Lake City UT 84104
UID:e.3104.14114
SEQUENCE:3
DTSTAMP:20260421T022142Z
URL:https://members.agc-utah.org/events/details/osha-10-hour-course-in-spanish-september-2020-14114
END:VEVENT

END:VCALENDAR
