BEGIN:VCALENDAR
VERSION:2.0
PRODID:-//ChamberMaster//Event Calendar 2.0//EN
METHOD:PUBLISH
X-PUBLISHED-TTL:P3D
REFRESH-INTERVAL:P3D
CALSCALE:GREGORIAN
BEGIN:VEVENT
DTSTART;VALUE=DATE:20200603
DTEND;VALUE=DATE:20200605
TRANSP:TRANSPARENT
X-MICROSOFT-CDO-ALLDAYEVENT:TRUE
SUMMARY:OSHA 10 Hour Course - Live Webinar (June 2020)
DESCRIPTION:The OSHA 10 hour training is performed by an authorized OSHA outreach instructor with over 20 years in the construction industry.\n\n\n\nThe class is applicable for everybody in the construction industry\, although a portion of it will be devoted specifically to UDOT safety standards.\n\n\n\nThe training is appropriate for craftsmen\, foremen\, supervisors\, project managers and inspectors involved in the construction field.\n\n\n\nFrom this training you can expect to receive a better understanding of:\n\n\n\n  The need to work safe\n\n  Hazard recognition and avoidance\n\n  How the OSHA standards apply to the workforce and why they are important\n\n\n\n*Fulfills the new UDOT standards requirement for OSHA certification for all contractors and subcontractors.\n\n\n\n*Qualifies for AGC WCF Safety Credit
X-ALT-DESC;FMTTYPE=text/html:The OSHA 10 hour training is performed by an authorized OSHA outreach instructor with over 20 years in the construction industry.<br />\n<br />\nThe class is applicable for everybody in the construction industry\, although a portion of it will be devoted specifically to UDOT safety standards.<br />\n<br />\nThe training is appropriate for craftsmen\, foremen\, supervisors\, project managers and inspectors involved in the construction field.<br />\n<br />\nFrom this training you can expect to receive a better understanding of:<br />\n<br />\n&#61623\; The need to work safe<br />\n&#61623\; Hazard recognition and avoidance<br />\n&#61623\; How the OSHA standards apply to the workforce and why they are important<br />\n<br />\n<span style="color:#B22222\;">*Fulfills the new UDOT standards requirement for OSHA certification for all contractors and subcontractors.</span><br />\n<br />\n*Qualifies for AGC WCF Safety Credit<br />\n<br />\n&nbsp\;
LOCATION:Live Webinar *Meeting login will be sent the day before course - please enter accurate email address for each individual registered.
UID:e.3104.14073
SEQUENCE:3
DTSTAMP:20260421T072716Z
URL:https://members.agc-utah.org/events/details/osha-10-hour-course-live-webinar-june-2020-14073
END:VEVENT

END:VCALENDAR
