BEGIN:VCALENDAR
VERSION:2.0
PRODID:-//ChamberMaster//Event Calendar 2.0//EN
METHOD:PUBLISH
X-PUBLISHED-TTL:P3D
REFRESH-INTERVAL:P3D
CALSCALE:GREGORIAN
BEGIN:VEVENT
DTSTART;VALUE=DATE:20200312
DTEND;VALUE=DATE:20200314
TRANSP:TRANSPARENT
X-MICROSOFT-CDO-ALLDAYEVENT:TRUE
SUMMARY:OSHA 10 Hour Course (March 2020)
DESCRIPTION:The OSHA 10 hour training is performed by an authorized OSHA outreach instructor with over 20 years in the construction industry.\n\n\n\nThe training is appropriate for workers\, foremen\, supervisors\, and inspectors involved in the construction field. From this training you can expect to get a better understanding of:\n\n\n\n  The need to work safe\n\n  Hazard recognition and avoidance\n\n  How the OSHA standards apply to the workforce and why they are important\n\n\n\n*Qualifies for AGC WCF Safety Credit
X-ALT-DESC;FMTTYPE=text/html:The OSHA 10 hour training is performed by an authorized OSHA outreach instructor with over 20 years in the construction industry.<br />\n<br />\nThe training is appropriate for workers\, foremen\, supervisors\, and inspectors involved in the construction field. From this training you can expect to get a better understanding of:<br />\n<br />\n&#61623\; The need to work safe<br />\n&#61623\; Hazard recognition and avoidance<br />\n&#61623\; How the OSHA standards apply to the workforce and why they are important<br />\n<br />\n*Qualifies for AGC WCF Safety Credit<br />\n<br />\n&nbsp\;
LOCATION:AGC of Utah 2207 South 1070 West Salt Lake City UT 84119
UID:e.3104.14030
SEQUENCE:3
DTSTAMP:20260421T031849Z
URL:https://members.agc-utah.org/events/details/osha-10-hour-course-march-2020-14030
END:VEVENT

END:VCALENDAR
