BEGIN:VCALENDAR
VERSION:2.0
PRODID:-//ChamberMaster//Event Calendar 2.0//EN
METHOD:PUBLISH
X-PUBLISHED-TTL:P3D
REFRESH-INTERVAL:P3D
CALSCALE:GREGORIAN
BEGIN:VEVENT
DTSTART;VALUE=DATE:20201008
DTEND;VALUE=DATE:20201010
TRANSP:TRANSPARENT
X-MICROSOFT-CDO-ALLDAYEVENT:TRUE
SUMMARY:OSHA 10 Hour Course - St. George (October 2020) *Postponed
DESCRIPTION:The training is appropriate for craftsman\, foremen\, supervisors\, project managers and inspectors involved in the construction field. From this training you can expect to get a better understanding of:\n\n\n\n  The need to work safe\n\n  Hazard recognition and avoidance\n\n  How the OSHA standards apply to the workforce and why they are important\n\n\n\n*Qualifies for AGC WCF Safety Credit\n\n\n\nPresenter: Rob Hooper
X-ALT-DESC;FMTTYPE=text/html:The training is appropriate for craftsman\, foremen\, supervisors\, project managers and inspectors involved in the construction field. From this training you can expect to get a better understanding of:<br />\n<br />\n&#61623\; The need to work safe<br />\n&#61623\; Hazard recognition and avoidance<br />\n&#61623\; How the OSHA standards apply to the workforce and why they are important<br />\n<br />\n*Qualifies for AGC WCF Safety Credit<br />\n<br />\nPresenter: Rob Hooper
LOCATION:Southern Utah AGC 230 North 1680 East B-1 St. George UT 84790
UID:e.3104.14133
SEQUENCE:3
DTSTAMP:20260421T021157Z
URL:https://members.agc-utah.org/events/details/osha-10-hour-course-st-george-october-2020-postponed-14133
END:VEVENT

END:VCALENDAR
