BEGIN:VCALENDAR
VERSION:2.0
PRODID:-//ChamberMaster//Event Calendar 2.0//EN
METHOD:PUBLISH
X-PUBLISHED-TTL:P3D
REFRESH-INTERVAL:P3D
CALSCALE:GREGORIAN
BEGIN:VEVENT
DTSTART;VALUE=DATE:20190621
DTEND;VALUE=DATE:20190622
TRANSP:TRANSPARENT
X-MICROSOFT-CDO-ALLDAYEVENT:TRUE
SUMMARY:OSHA 30 Hour Class - St. George (June/July 2019)
DESCRIPTION:The OSHA 30-hour training will be performed by Chris Teter who is the Environment\, Health\, and Safety Consultant at Teter Safety Services\, LLC.\n\n\n\nThe training is appropriate for foremen\, supervisors\, and inspectors involved in the construction field. From this training you can expect to get a better understanding of:\n\n      The need to work safe\n\n      Hazard recognition and avoidance\n\n      How the OSHA standards apply to the workforce and why they are important\n\n\n\nPresenter: Chris Teter   Teter Safety Services\, LLC
X-ALT-DESC;FMTTYPE=text/html:The OSHA 30-hour training will be performed by Chris Teter who is the Environment\, Health\, and Safety Consultant at Teter Safety Services\, LLC.<br />\n<br />\nThe training is appropriate for foremen\, supervisors\, and inspectors involved in the construction field. From this training you can expect to get a better understanding of:<br />\n&nbsp\;&nbsp\;&nbsp\;&nbsp\;&#61623\; The need to work safe<br />\n&nbsp\;&nbsp\;&nbsp\;&nbsp\;&#61623\; Hazard recognition and avoidance<br />\n&nbsp\;&nbsp\;&nbsp\;&nbsp\;&#61623\; How the OSHA standards apply to the workforce and why they are important<br />\n<br />\n<strong>Presenter: Chris Teter &ndash\; Teter Safety Services\, LLC&nbsp\;</strong>
LOCATION:AGC of Utah 230 North 1680 East # B-1 St. George UT 84790
UID:e.3104.13910
SEQUENCE:3
DTSTAMP:20260420T145214Z
URL:https://members.agc-utah.org/events/details/osha-30-hour-class-st-george-june-july-2019-13910
END:VEVENT

END:VCALENDAR
