BEGIN:VCALENDAR
VERSION:2.0
PRODID:-//ChamberMaster//Event Calendar 2.0//EN
METHOD:PUBLISH
X-PUBLISHED-TTL:P3D
REFRESH-INTERVAL:P3D
CALSCALE:GREGORIAN
BEGIN:VEVENT
DTSTART;VALUE=DATE:20200313
DTEND;VALUE=DATE:20200314
TRANSP:TRANSPARENT
X-MICROSOFT-CDO-ALLDAYEVENT:TRUE
SUMMARY:OSHA 30 Hour Class - St. George (March/April 2020)
DESCRIPTION:The training is appropriate for craftsman\, foremen\, supervisors\, project manager and inspectors involved in the construction field. From this training you can expect to get a better understanding of:\n\n\n\n      The need to work safe\n\n      Hazard recognition and avoidance\n\n      How the OSHA standards apply to the workforce and why they are important\n\n\n\nPresenter: Rob Hooper
X-ALT-DESC;FMTTYPE=text/html:The training is appropriate for craftsman\, foremen\, supervisors\, project manager and inspectors involved in the construction field. From this training you can expect to get a better understanding of:<br>\n<br>\n&nbsp\;&nbsp\;&nbsp\;&nbsp\;&#61623\; The need to work safe<br>\n&nbsp\;&nbsp\;&nbsp\;&nbsp\;&#61623\; Hazard recognition and avoidance<br>\n&nbsp\;&nbsp\;&nbsp\;&nbsp\;&#61623\; How the OSHA standards apply to the workforce and why they are important<br>\n<br>\n<strong>Presenter: Rob Hooper</strong>
LOCATION:AGC of Utah 230 North 1680 East # B-1 St. George UT 84790
UID:e.3104.14032
SEQUENCE:3
DTSTAMP:20260421T032251Z
URL:https://members.agc-utah.org/events/details/osha-30-hour-class-st-george-march-april-2020-14032
END:VEVENT

END:VCALENDAR
