BEGIN:VCALENDAR
VERSION:2.0
PRODID:-//ChamberMaster//Event Calendar 2.0//EN
METHOD:PUBLISH
X-PUBLISHED-TTL:P3D
REFRESH-INTERVAL:P3D
CALSCALE:GREGORIAN
BEGIN:VEVENT
DTSTART;VALUE=DATE:20210208
DTEND;VALUE=DATE:20210212
TRANSP:TRANSPARENT
X-MICROSOFT-CDO-ALLDAYEVENT:TRUE
SUMMARY:OSHA 30 Hour Course (February 2021)
DESCRIPTION:The OSHA 30 hour Construction Industry Training course is a comprehensive safety education program designed for anyone involved in the construction industry.  Specifically devised for safety directors\, foremen\, and field supervisors\; the program provides complete information on OSHA compliance issues. \n\n\n\nPresenter: Chelly Heninger\, Awareness Is Key Safety Services\n\n\n\n*Qualifies for AGC/WCF Safety Credit
X-ALT-DESC;FMTTYPE=text/html:The OSHA 30 hour Construction Industry Training course is a comprehensive safety education program designed for anyone involved in the construction industry.&nbsp\; Specifically devised for safety directors\, foremen\, and field supervisors\; the program provides complete information on OSHA compliance issues.&nbsp\;<br />\n<br />\n<strong>Presenter: Chelly Heninger\, Awareness Is Key Safety Services<br />\n<br />\n*</strong>Qualifies for AGC/WCF Safety Credit
LOCATION:AGC of Utah Headquarters 2207 South 1070 West Salt Lake City UT 84119
UID:e.3104.14191
SEQUENCE:3
DTSTAMP:20260420T175711Z
URL:https://members.agc-utah.org/events/details/osha-30-hour-course-february-2021-14191
END:VEVENT

END:VCALENDAR
