BEGIN:VCALENDAR
VERSION:2.0
PRODID:-//ChamberMaster//Event Calendar 2.0//EN
METHOD:PUBLISH
X-PUBLISHED-TTL:P3D
REFRESH-INTERVAL:P3D
CALSCALE:GREGORIAN
BEGIN:VEVENT
DTSTART;VALUE=DATE:20190219
DTEND;VALUE=DATE:20190223
TRANSP:TRANSPARENT
X-MICROSOFT-CDO-ALLDAYEVENT:TRUE
SUMMARY:OSHA 510: Construction Standards Course - St. George (February 2019)
DESCRIPTION:This course covers OSHA Standards\, policies\, and procedures in the construction industry. Topics include scope and application of the OSHA Construction Standards\, construction safety and health principles\, and special emphasis on those areas in construction which are most hazardous.\n\n\n\nClick here to Register
X-ALT-DESC;FMTTYPE=text/html:<span style="background:white\;"><span style="color:#222222\;"><span style="font-size:12.0pt\;">This course covers OSHA Standards\, policies\, and procedures in the construction industry. Topics include scope and application of the OSHA Construction Standards\, construction safety and health principles\, and special emphasis on those areas in construction which are most hazardous.</span></span></span><br />\n<br />\n<a href="https://umarket.utah.edu/um2/rmcoeh/product.php?product=143"><span style="font-size:18px\;"><strong><span style="color:#FFFFFF\;"><span style="background-color:#FF0000\;">Click here to Register</span></span></strong></span></a>
LOCATION:Southern Utah Headquarters 230 North 1680 East #B-1 St. George UT 84790
UID:e.3104.13863
SEQUENCE:3
DTSTAMP:20260420T084610Z
URL:https://members.agc-utah.org/events/details/osha-510-construction-standards-course-st-george-february-2019-13863
END:VEVENT

END:VCALENDAR
