BEGIN:VCALENDAR
VERSION:2.0
PRODID:-//ChamberMaster//Event Calendar 2.0//EN
METHOD:PUBLISH
X-PUBLISHED-TTL:P3D
REFRESH-INTERVAL:P3D
CALSCALE:GREGORIAN
BEGIN:VEVENT
DTSTART:20190509T140000Z
DTEND:20190509T183000Z
X-MICROSOFT-CDO-ALLDAYEVENT:FALSE
SUMMARY:OSHA 7405: Fall Hazard Awareness - St. George (05.09.19)
DESCRIPTION:Free Class as part of the National Safety Stand-Down for Preventing Falls in Construction\n\n\n\nThis course covers the identification\, evaluation\, prevention and control of fall hazards in the construction industry. The course focuses on falls to a lower level rather than falls to the same level resulting from slips and falls. Course topics include identifying\, analyzing\, and preventing fall hazards utilizing OSHA Fall Protection Standards. At the conclusion of the course\, students will have an awareness level of identifying fall hazards and methods to control and abate the hazards.\n\n\n\nClick to Register
X-ALT-DESC;FMTTYPE=text/html:<br />\n<strong><span style="color:#555555\;"><span style="font-size:12.0pt\;">Free Class as part of the National Safety Stand-Down for Preventing Falls in Construction</span></span></strong><br />\n<br />\n<span style="color:#333333\;"><span style="font-size:12.0pt\;">This course covers the identification\, evaluation\, prevention and control of fall hazards in the construction industry. The course focuses on falls to a lower level rather than falls to the same level resulting from slips and falls. Course topics include identifying\, analyzing\, and preventing fall hazards utilizing OSHA Fall Protection Standards. At the conclusion of the course\, students will have an awareness level of identifying fall hazards and methods to control and abate the hazards.</span></span><br />\n<br />\n<a href="https://ce.rmcoeh.utah.edu/wconnect/ace/CourseStatus.awp?&amp\;course=19OSHA7405SG"><span style="font-size:18px\;"><span style="color:#FFFFFF\;"><strong><span style="background-color:#FF0000\;">Click to Register</span></strong></span></span></a>
LOCATION:AGC So. Utah 230 North 1680 East B-1 St. George UT 84790
UID:e.3104.13870
SEQUENCE:3
DTSTAMP:20260420T120513Z
URL:https://members.agc-utah.org/events/details/osha-7405-fall-hazard-awareness-st-george-05-09-19-13870
END:VEVENT

END:VCALENDAR
