BEGIN:VCALENDAR
VERSION:2.0
PRODID:-//ChamberMaster//Event Calendar 2.0//EN
METHOD:PUBLISH
X-PUBLISHED-TTL:P3D
REFRESH-INTERVAL:P3D
CALSCALE:GREGORIAN
BEGIN:VEVENT
DTSTART:20200207T150000Z
DTEND:20200207T190000Z
X-MICROSOFT-CDO-ALLDAYEVENT:FALSE
SUMMARY:OSHA 7510: Intro to OSHA for Small Businesses (02.07.20) CANCELLED
DESCRIPTION:This course covers an introduction to the Occupational Safety and Health Administration (OSHA) and the OSH Act for owners and managers of small businesses. Course topics include an introduction to OSHA\, OSHA Standards\, the inspection process\, implementing a safety and health program\, worker training requirements and assistance available to small businesses. Upcon course completion students will understand OSHA operations and procedures and how to work with OSHA to prevent or reduce injuries and illnesses in their workplace.
X-ALT-DESC;FMTTYPE=text/html:<i style="margin: 0px\; padding: 0px\; color: rgb(34\, 34\, 34)\; font-family: Verdana\, Arial\, sans-serif\; font-size: 14.4px\; letter-spacing: 0.25px\;">This course covers an introduction to the Occupational Safety and Health Administration (OSHA) and the OSH Act for owners and managers of small businesses. Course topics include an introduction to OSHA\, OSHA Standards\, the inspection process\, implementing a safety and health program\, worker training requirements and assistance available to small businesses. Upcon course completion students will understand OSHA operations and procedures and how to work with OSHA to prevent or reduce injuries and illnesses in their workplace.</i><br />\n<br />\n&nbsp\;
LOCATION:AGC Headquarters 2207 South 1070 West Salt Lake City UT 84119
UID:e.3104.13994
SEQUENCE:3
DTSTAMP:20260421T013631Z
URL:https://members.agc-utah.org/events/details/osha-7510-intro-to-osha-for-small-businesses-02-07-20-cancelled-13994
END:VEVENT

END:VCALENDAR
