BEGIN:VCALENDAR
VERSION:2.0
PRODID:-//ChamberMaster//Event Calendar 2.0//EN
METHOD:PUBLISH
X-PUBLISHED-TTL:P3D
REFRESH-INTERVAL:P3D
CALSCALE:GREGORIAN
BEGIN:VEVENT
DTSTART:20190709T173000Z
DTEND:20190709T190000Z
X-MICROSOFT-CDO-ALLDAYEVENT:FALSE
SUMMARY:OSHA Voluntary Protection Program L&L (07.09.19)
DESCRIPTION:The Voluntary Protection Programs (VPP) promote effective worksite-based safety and health. In the VPP\, management\, labor\, and UOSH establish cooperative relationships at workplaces that have implemented a comprehensive safety and health management system. VPP companies enjoy fewer injuries and illnesses\, higher employee morale\, increased employee retention\, lower worker compensation costs\, and a competitive advantage over non-VPP sites.\n\n\n\nTopics to be covered include: Requirements for being a VPP company\, process to apply for VPP\, benefits to employers and employees\, resources for the VPP journey\, and best practices from current VPP companies.\n \n\nPresenter: Jerry Parkstone\, UOSH Compliance Assistance Specialist
X-ALT-DESC;FMTTYPE=text/html:<div style="text-align: justify\;"><span style="font-weight:normal\;"><span style="font-family:tahoma\,sans-serif\;"><span style="font-size:10.0pt\;">The Voluntary Protection Programs (VPP) promote effective worksite-based safety and health. In the VPP\, management\, labor\, and UOSH establish cooperative relationships at workplaces that have implemented a comprehensive safety and health management system. VPP companies enjoy fewer injuries and illnesses\, higher employee morale\, increased employee retention\, lower worker compensation costs\, and a competitive advantage over non-VPP sites.</span></span></span><br />\n<br />\n<span style="font-weight:normal\;"><span style="font-family:tahoma\,sans-serif\;"><span style="font-size:10.0pt\;">Topics to be covered include: Requirements for being a VPP company\, process to apply for VPP\, benefits to employers and employees\, resources for the VPP journey\, and best practices from current VPP companies.</span></span></span></div>\n&nbsp\;<br />\n<span style="font-family:tahoma\,sans-serif\;"><span style="font-size:10.0pt\;">Presenter: </span></span><span style="font-weight:normal\;"><span style="font-family:tahoma\,sans-serif\;"><span style="font-size:10.0pt\;">Jerry Parkstone\, UOSH Compliance Assistance Specialist</span></span></span>
LOCATION:AGC Headquarters 2207 South 1070 West Salt Lake City UT 84119
UID:e.3104.13928
SEQUENCE:3
DTSTAMP:20260420T142656Z
URL:https://members.agc-utah.org/events/details/osha-voluntary-protection-program-l-l-07-09-19-13928
END:VEVENT

END:VCALENDAR
