BEGIN:VCALENDAR
VERSION:2.0
PRODID:-//ChamberMaster//Event Calendar 2.0//EN
METHOD:PUBLISH
X-PUBLISHED-TTL:P3D
REFRESH-INTERVAL:P3D
CALSCALE:GREGORIAN
BEGIN:VEVENT
DTSTART;VALUE=DATE:20200414
DTEND;VALUE=DATE:20200418
TRANSP:TRANSPARENT
X-MICROSOFT-CDO-ALLDAYEVENT:TRUE
SUMMARY:Pre-Licensure Course (April 2020)
DESCRIPTION:TEMPORARY RULE CHANGE DUE TO COVID-19 (Coronavirus)\n\n\n\nCLICK HERE FOR IMPORTANT RULE CHANGE & LICENSING INFORMATION\n\n\nBeginning October 1\, 2019 all applicants seeking the General Contractor E100\, B100 or R100 licenses must complete the General Contractor 30 Hour Pre-Licensure Course.\n\n\n\nSUB CONTRACTOR 25-Hour Pre-Licensure Course:\n\nThis course introduces contractors to various accounting processes\, basic business practices and general management skills.  \n\n	$310 Course Fee\n	$70 Textbook Fee (optional) NASCLA Contractors Guide to Business\, Law & Project Management\, Utah 3rd Edition\n	State Law requires participation in all course classes to receive Completion Certificate\n\nGENERAL CONTRACTOR 30-Hour Pre-Licensure Course:\n\nThis course overlaps with and contains all of the information in the 25-Hour course\, listed above\, and includes five additional hours required by the State of Utah to prepare students in taking the Business Law Exam.  This course is for all indiviuals seeking a General Contractor license in the E100\, B100 or R100 categories.\n\n\n	$395 Course Fee\n	$70 Textbook Fee (optional) NASCLA Contractors Guide to Business\, Law & Project Management\, Utah 3rd Edition\n	\n		*NASCLA Textbook may be used during the DOPL Business & Law Exam\n	\n	\n	State Law requires participation in all course classes to receive Completion Certificate\n\n*There will be a $25 Cancellation Fee / $50 "No-Show" fee on all courses above
X-ALT-DESC;FMTTYPE=text/html:<p style="box-sizing: border-box\; margin: 0px 0px 10px\; letter-spacing: 0.5px\; color: rgb(85\, 85\, 85)\; font-family: Raleway\, sans-serif\; background-color: rgb(255\, 255\, 255)\; text-align: center\;"><br />\n<span style="font-size:22px\;"><strong><span style="color:#800000\;">TEMPORARY RULE CHANGE DUE TO COVID-19 (Coronavirus)</span><br />\n<br />\n<u><a href="https://www.agc-utah.org/pre-licensure"><span style="color:#800000\;">CLICK HERE FOR IMPORTANT RULE CHANGE &amp\; LICENSING INFORMATION</span></a></u></strong></span></p>\n<br />\n<span style="color:#B22222\;"><strong>Beginning October 1\, 2019 all applicants seeking the General Contractor E100\, B100 or R100 licenses must complete the General Contractor 30 Hour Pre-Licensure Course.</strong></span><br />\n<br />\n<span style="color:#B22222\;"><strong>SUB CONTRACTOR 25-Hour Pre-Licensure Course:</strong></span><br />\nThis course introduces contractors to various accounting processes\, basic business practices and general management skills.&nbsp\;&nbsp\;\n<ul>\n	<li>$310 Course Fee</li>\n	<li>$70 Textbook Fee (optional) NASCLA Contractors Guide to Business\, Law &amp\; Project Management\, Utah 3rd Edition</li>\n	<li>State Law requires participation in all course classes to receive Completion Certificate</li>\n</ul>\n<span style="color:#B22222\;"><strong>GENERAL CONTRACTOR 30-Hour Pre-Licensure Course:</strong></span><br />\nThis course overlaps with and contains all of the information in the 25-Hour course\, listed above\, and includes <strong>five additional hours</strong> required by the State of Utah to prepare students in taking the Business Law Exam.&nbsp\; <strong>This course is for all indiviuals seeking a General Contractor license in the E100\, B100 or R100 categories.</strong>\n\n<ul>\n	<li>$395 Course Fee</li>\n	<li>$70 Textbook Fee (optional) NASCLA Contractors Guide to Business\, Law &amp\; Project Management\, Utah 3rd Edition\n	<ul>\n		<li>*NASCLA Textbook may be used during the DOPL Business &amp\; Law Exam</li>\n	</ul>\n	</li>\n	<li>State Law requires participation in all course classes to receive Completion Certificate</li>\n</ul>\n<strong>*There will be a $25 Cancellation Fee / $50 &quot\;No-Show&quot\; fee on all courses above</strong>
LOCATION:Contractors School Seminar Room 3191 South Valley Street Salt Lake City UT 84119
UID:e.3104.14048
SEQUENCE:3
DTSTAMP:20260421T051309Z
URL:https://members.agc-utah.org/events/details/pre-licensure-course-april-2020-14048
END:VEVENT

END:VCALENDAR
