BEGIN:VCALENDAR
VERSION:2.0
PRODID:-//ChamberMaster//Event Calendar 2.0//EN
METHOD:PUBLISH
X-PUBLISHED-TTL:P3D
REFRESH-INTERVAL:P3D
CALSCALE:GREGORIAN
BEGIN:VEVENT
DTSTART;VALUE=DATE:20240827
DTEND;VALUE=DATE:20240831
TRANSP:TRANSPARENT
X-MICROSOFT-CDO-ALLDAYEVENT:TRUE
SUMMARY:Pre-Licensure Course (August 27-30\, 2024)
DESCRIPTION:SPECIALTY/SUBCONTRACTOR 25-Hour Pre-Licensure Course:\n\nThis course introduces contractors to various accounting processes\, basic business practices\, construction law and general management skills by industry experts. \n\n	$310 Course Fee (lunch included)\n	$59 Textbook Fee (optional) \n	State Law requires attendance for all hours to receive Completion Certificate\n\nGENERAL CONTRACTOR 30-Hour Pre-Licensure Course:\n\nThis course overlaps with and contains all of the information in the 25-Hour course\, listed above\, and includes 5 additional hours required by the State of Utah to prepare students in taking the Business & Law Exam.  All general contractors (E100\, B100\, R100)\, plumbing and electrical contractors require a 30-hour pre-licensure course.\n\n\n	$395 Course Fee (Lunch Included)\n	$59 Textbook Fee (suggested) \n	\n		Textbook may be used during the DOPL Business & Law Exam\n	\n	\n	State Law requires attendance for all hours to receive Completion Certificate\n\n*There will be a $25 Cancellation Fee / $50 "No-Show" fee on all courses above
X-ALT-DESC;FMTTYPE=text/html:<br />\n<span style="color:#B22222\;"><strong>SPECIALTY/SUBCONTRACTOR 25-Hour Pre-Licensure Course:</strong></span><br />\nThis course introduces contractors to various accounting processes\, basic business practices\, construction law and general management skills by industry experts.&nbsp\;\n<ul>\n	<li>$310 Course Fee&nbsp\;(lunch included)</li>\n	<li>$59&nbsp\;Textbook Fee (optional)&nbsp\;</li>\n	<li>State Law requires attendance for all hours to receive Completion Certificate</li>\n</ul>\n<strong><span style="color:#B22222\;">GENERAL CONTRACTOR 30-Hour Pre-Licensure Course:</span></strong><br />\nThis course overlaps with and contains all of the information in the 25-Hour course\, listed above\, and includes <strong>5 additional hours</strong> required by the State of Utah to prepare students in taking the Business &amp\; Law Exam.&nbsp\; All general contractors&nbsp\;<strong>(E100\, B100\, R100)\, plumbing and electrical contractors</strong>&nbsp\;require a 30-hour pre-licensure course.\n\n<ul>\n	<li>$395 Course Fee&nbsp\;(Lunch Included)</li>\n	<li>$59&nbsp\;Textbook Fee (suggested)&nbsp\;\n	<ul>\n		<li>Textbook may be used during the DOPL Business &amp\; Law Exam</li>\n	</ul>\n	</li>\n	<li>State Law requires attendance for all hours&nbsp\;to receive Completion Certificate</li>\n</ul>\n<strong>*There will be a $25 Cancellation Fee / $50 &quot\;No-Show&quot\; fee on all courses above</strong>
LOCATION:AGC of Utah 2207 South 1070 West Salt Lake City UT 84119
UID:e.3104.14935
SEQUENCE:3
DTSTAMP:20260423T093611Z
URL:https://members.agc-utah.org/events/details/pre-licensure-course-august-27-30-2024-14935
END:VEVENT

END:VCALENDAR
