BEGIN:VCALENDAR
VERSION:2.0
PRODID:-//ChamberMaster//Event Calendar 2.0//EN
METHOD:PUBLISH
X-PUBLISHED-TTL:P3D
REFRESH-INTERVAL:P3D
CALSCALE:GREGORIAN
BEGIN:VEVENT
DTSTART;VALUE=DATE:20210706
DTEND;VALUE=DATE:20210709
TRANSP:TRANSPARENT
X-MICROSOFT-CDO-ALLDAYEVENT:TRUE
SUMMARY:Pre-Licensure Course (July 6-8\, July 12\, 2021)
DESCRIPTION:SUB CONTRACTOR 25-Hour Pre-Licensure Course:\n\nThis course introduces contractors to various accounting processes\, basic business practices and general management skills.  \n\n	$310 Course Fee (Lunch Included)\n	$50 Textbook Fee (optional) \n	State Law requires participation in all course classes to receive Completion Certificate\n\nGENERAL CONTRACTOR 30-Hour Pre-Licensure Course\n\nTHESE 5 HRS MOVED TO MON\, JULY 12TH\n\nThis course overlaps with and contains all of the information in the 25-Hour course\, listed above\, and includes five additional hours required by the State of Utah to prepare students in taking the Business Law Exam.  All general contractors (E100\, B100\, R100)\, plumbing and electrical contractors require a 30-hour pre-licensure course.\n\n\n	$395 Course Fee (Lunch Included)\n	$50 Textbook Fee (optional) \n	\n		Textbook may be used during the DOPL Business & Law Exam\n	\n	\n	State Law requires participation in all course classes to receive Completion Certificate\n\n*There will be a $25 Cancellation Fee / $50 "No-Show" fee on all courses above
X-ALT-DESC;FMTTYPE=text/html:<br />\n<span style="color:#B22222\;"><strong>SUB CONTRACTOR 25-Hour Pre-Licensure Course:</strong></span><br />\nThis course introduces contractors to various accounting processes\, basic business practices and general management skills.&nbsp\;&nbsp\;\n<ul>\n	<li>$310 Course Fee&nbsp\;(Lunch Included)</li>\n	<li>$50 Textbook Fee (optional)&nbsp\;</li>\n	<li>State Law requires participation in all course classes to receive Completion Certificate</li>\n</ul>\n<strong><span style="color:#B22222\;">GENERAL CONTRACTOR 30-Hour Pre-Licensure Course</span></strong><br />\n<strong>THESE 5 HRS MOVED TO MON\, JULY 12TH</strong><br />\nThis course overlaps with and contains all of the information in the 25-Hour course\, listed above\, and includes <strong>five additional hours</strong> required by the State of Utah to prepare students in taking the Business Law Exam.&nbsp\; All general contractors&nbsp\;<strong>(E100\, B100\, R100)\, plumbing and electrical contractors</strong>&nbsp\;require a 30-hour pre-licensure course.\n\n<ul>\n	<li>$395 Course Fee&nbsp\;(Lunch Included)</li>\n	<li>$50 Textbook Fee (optional)&nbsp\;\n	<ul>\n		<li>Textbook may be used during the DOPL Business &amp\; Law Exam</li>\n	</ul>\n	</li>\n	<li>State Law requires participation in all course classes to receive Completion Certificate</li>\n</ul>\n<strong>*There will be a $25 Cancellation Fee / $50 &quot\;No-Show&quot\; fee on all courses above</strong>
LOCATION:AGC of Utah 2207 South 1070 West Salt Lake City UT 84119
UID:e.3104.14289
SEQUENCE:3
DTSTAMP:20260420T101837Z
URL:https://members.agc-utah.org/events/details/pre-licensure-course-july-6-8-july-12-2021-14289
END:VEVENT

END:VCALENDAR
