BEGIN:VCALENDAR
VERSION:2.0
PRODID:-//ChamberMaster//Event Calendar 2.0//EN
METHOD:PUBLISH
X-PUBLISHED-TTL:P3D
REFRESH-INTERVAL:P3D
CALSCALE:GREGORIAN
BEGIN:VEVENT
DTSTART;VALUE=DATE:20210615
DTEND;VALUE=DATE:20210619
TRANSP:TRANSPARENT
X-MICROSOFT-CDO-ALLDAYEVENT:TRUE
SUMMARY:Pre-Licensure Course (June 15-18\, 2021) CLASS FULL
DESCRIPTION:SUB CONTRACTOR 25-Hour Pre-Licensure Course:\n\nThis course introduces contractors to various accounting processes\, basic business practices and general management skills.  \n\n	$310 Course Fee\n	$50 Textbook Fee (optional) \n	State Law requires participation in all course classes to receive Completion Certificate\n\nGENERAL CONTRACTOR 30-Hour Pre-Licensure Course:\n\nThis course overlaps with and contains all of the information in the 25-Hour course\, listed above\, and includes five additional hours required by the State of Utah to prepare students in taking the Business Law Exam.  All general contractors (E100\, B100\, R100)\, plumbing and electrical contractors require a 30-hour pre-licensure course.\n\n\n	$395 Course Fee\n	$50 Textbook Fee (optional) \n	\n		Textbook may be used during the DOPL Business & Law Exam\n	\n	\n	State Law requires participation in all course classes to receive Completion Certificate\n\n*There will be a $25 Cancellation Fee / $50 "No-Show" fee on all courses above
X-ALT-DESC;FMTTYPE=text/html:<br />\n<span style="color:#B22222\;"><strong>SUB CONTRACTOR 25-Hour Pre-Licensure Course:</strong></span><br />\nThis course introduces contractors to various accounting processes\, basic business practices and general management skills.&nbsp\;&nbsp\;\n<ul>\n	<li>$310 Course Fee</li>\n	<li>$50 Textbook Fee (optional)&nbsp\;</li>\n	<li>State Law requires participation in all course classes to receive Completion Certificate</li>\n</ul>\n<strong><span style="color:#B22222\;">GENERAL CONTRACTOR 30-Hour Pre-Licensure Course:</span></strong><br />\nThis course overlaps with and contains all of the information in the 25-Hour course\, listed above\, and includes <strong>five additional hours</strong> required by the State of Utah to prepare students in taking the Business Law Exam.&nbsp\; All general contractors <strong>(E100\, B100\, R100)\, plumbing and electrical contractors</strong> require a 30-hour pre-licensure course.\n\n<ul>\n	<li>$395 Course Fee</li>\n	<li>$50 Textbook Fee (optional)&nbsp\;\n	<ul>\n		<li>Textbook may be used during the DOPL Business &amp\; Law Exam</li>\n	</ul>\n	</li>\n	<li>State Law requires participation in all course classes to receive Completion Certificate</li>\n</ul>\n<strong>*There will be a $25 Cancellation Fee / $50 &quot\;No-Show&quot\; fee on all courses above</strong>
LOCATION:AGC of Utah 2207 South 1070 West Salt Lake City UT 84119
UID:e.3104.14272
SEQUENCE:3
DTSTAMP:20260420T115218Z
URL:https://members.agc-utah.org/events/details/pre-licensure-course-june-15-18-2021-class-full-14272
END:VEVENT

END:VCALENDAR
