BEGIN:VCALENDAR
VERSION:2.0
PRODID:-//ChamberMaster//Event Calendar 2.0//EN
METHOD:PUBLISH
X-PUBLISHED-TTL:P3D
REFRESH-INTERVAL:P3D
CALSCALE:GREGORIAN
BEGIN:VEVENT
DTSTART;VALUE=DATE:20200929
DTEND;VALUE=DATE:20201003
TRANSP:TRANSPARENT
X-MICROSOFT-CDO-ALLDAYEVENT:TRUE
SUMMARY:Pre-Licensure Course (September 29-October 2\, 2020) CLASS FULL
DESCRIPTION:Beginning October 1\, 2019 all applicants seeking the General Contractor E100\, B100 or R100 licenses must complete the General Contractor 30 Hour Pre-Licensure Course.\n\n\n\nSUB CONTRACTOR 25-Hour Pre-Licensure Course:\n\nThis course introduces contractors to various accounting processes\, basic business practices and general management skills.  \n\n	$310 Course Fee\n	$70 Textbook Fee (optional) \n	State Law requires participation in all course classes to receive Completion Certificate\n\nGENERAL CONTRACTOR 30-Hour Pre-Licensure Course:\n\nThis course overlaps with and contains all of the information in the 25-Hour course\, listed above\, and includes five additional hours required by the State of Utah to prepare students in taking the Business Law Exam.  This course is for all indiviuals seeking a General Contractor license in the E100\, B100 or R100 categories.\n\n\n	$395 Course Fee\n	$70 Textbook Fee (optional)\n	\n		Textbook may be used during the DOPL Business & Law Exam\n	\n	\n	State Law requires participation in all course classes to receive Completion Certificate\n\n*There will be a $25 Cancellation Fee / $50 "No-Show" fee on all courses above
X-ALT-DESC;FMTTYPE=text/html:<br />\n<span style="color:#B22222\;"><strong>Beginning October 1\, 2019 all applicants seeking the General Contractor E100\, B100 or R100 licenses must complete the General Contractor 30 Hour Pre-Licensure Course.</strong></span><br />\n<br />\n<span style="color:#B22222\;"><strong>SUB CONTRACTOR 25-Hour Pre-Licensure Course:</strong></span><br />\nThis course introduces contractors to various accounting processes\, basic business practices and general management skills.&nbsp\;&nbsp\;\n<ul>\n	<li>$310 Course Fee</li>\n	<li>$70 Textbook Fee (optional)&nbsp\;</li>\n	<li>State Law requires participation in all course classes to receive Completion Certificate</li>\n</ul>\n<span style="color:#B22222\;"><strong>GENERAL CONTRACTOR 30-Hour Pre-Licensure Course:</strong></span><br />\nThis course overlaps with and contains all of the information in the 25-Hour course\, listed above\, and includes <strong>five additional hours</strong> required by the State of Utah to prepare students in taking the Business Law Exam.&nbsp\; <strong>This course is for all indiviuals seeking a General Contractor license in the E100\, B100 or R100 categories.</strong>\n\n<ul>\n	<li>$395 Course Fee</li>\n	<li>$70 Textbook Fee (optional)\n	<ul>\n		<li>Textbook may be used during the DOPL Business &amp\; Law Exam</li>\n	</ul>\n	</li>\n	<li>State Law requires participation in all course classes to receive Completion Certificate</li>\n</ul>\n<strong>*There will be a $25 Cancellation Fee / $50 &quot\;No-Show&quot\; fee on all courses above</strong>
LOCATION:AGC Headquarters 2207 South 1070 West Salt Lake City UT 84119
UID:e.3104.14122
SEQUENCE:3
DTSTAMP:20260420T065859Z
URL:https://members.agc-utah.org/events/details/pre-licensure-course-september-29-october-2-2020-class-full-14122
END:VEVENT

END:VCALENDAR
