BEGIN:VCALENDAR
VERSION:2.0
PRODID:-//ChamberMaster//Event Calendar 2.0//EN
METHOD:PUBLISH
X-PUBLISHED-TTL:P3D
REFRESH-INTERVAL:P3D
CALSCALE:GREGORIAN
BEGIN:VEVENT
DTSTART:20190307T170000Z
DTEND:20190307T210000Z
X-MICROSOFT-CDO-ALLDAYEVENT:FALSE
SUMMARY:Professional Portraits Session - St. George (03.07.19)
DESCRIPTION:Whether you're an executive\, project manager\, or just trying to improve your LinkedIn profile\, everyone needs a great portrait to put his or her best face forward.  AGC of Utah makes this smart step easy by collaborating with local St. George photographer\, 6Bit Creative.\n\n\n\nEach appointment is 15 minutes and can be reserved for 1-2 people.  Please call AGC of Utah - So. Utah office to schedule your 15-minute appointment(s): 435.628.1346 or suagc@agc-utah.org.
X-ALT-DESC;FMTTYPE=text/html:<br />\nWhether you&#39\;re an executive\, project manager\, or just trying to improve your LinkedIn profile\, everyone needs a great portrait to put his or her best face forward.&nbsp\; AGC of Utah makes this smart step easy by collaborating with local St. George photographer\, 6Bit Creative.<br />\n<br />\nEach appointment is 15 minutes and can be reserved for 1-2 people.&nbsp\; Please call AGC of Utah - So. Utah office to schedule your 15-minute appointment(s): 435.628.1346 or suagc@agc-utah.org.<br />\n<br />\n&nbsp\;
LOCATION:6Bit Creative 230 North 1680 East B-1 St. George UT 84790
UID:e.3104.13868
SEQUENCE:3
DTSTAMP:20260420T090237Z
URL:https://members.agc-utah.org/events/details/professional-portraits-session-st-george-03-07-19-13868
END:VEVENT

END:VCALENDAR
