BEGIN:VCALENDAR
VERSION:2.0
PRODID:-//ChamberMaster//Event Calendar 2.0//EN
METHOD:PUBLISH
X-PUBLISHED-TTL:P3D
REFRESH-INTERVAL:P3D
CALSCALE:GREGORIAN
BEGIN:VEVENT
DTSTART:20200928T140000Z
DTEND:20200928T200000Z
X-MICROSOFT-CDO-ALLDAYEVENT:FALSE
SUMMARY:Qualified Rigger & Signal Training Course (09.28.20)
DESCRIPTION:This course covers the basics of rigging and signal person requirements.  As part of this course participants will learn a brief history of OSHA standards with respect to rigging practices such as rigging inspection\, load angles\, uses and limitations of various types of slings and rigging hardware as well as the basic hand signals that are used for crane operation.  This course also focuses on the requirements established by ASME B30 standards as they apply to cranes\, rigging and hand signals.   Participants will also learn some basics about crane setup and operation to be able to identify proper use of cranes and rigging to help reduce improper setup.  This course does not meet NCCCO training and testing requirements.\n\n \n\nCertification for Qualified Rigger & Signal Training included.\n\n*Qualifies for two (2) hours of the AGC/WCF Worker's Comp Training\n\n\n\nPresenter: Robert Weston   Safety Management & Training Solutions
X-ALT-DESC;FMTTYPE=text/html:<span style="font-weight:normal\;"><span style="font-family:tahoma\,sans-serif\;"><span style="font-size:10.0pt\;">This course covers the basics of rigging and signal person requirements.&nbsp\; As part of this course participants will learn a brief history of OSHA standards with respect to rigging practices such as rigging inspection\, load angles\, uses and limitations of various types of slings and rigging hardware as well as the basic hand signals that are used for crane operation.&nbsp\; This course also focuses on the requirements established by ASME B30 standards as they apply to cranes\, rigging and hand signals.&nbsp\;&nbsp\; Participants will also learn some basics about crane setup and operation to be able to identify proper use of cranes and rigging to help reduce improper setup.&nbsp\; This course does not meet NCCCO training and testing requirements.</span></span></span><br />\n&nbsp\;<br />\n<span style="font-family:tahoma\,sans-serif\;"><span style="font-size:10.0pt\;">Certification for Qualified Rigger &amp\; Signal Training included.</span></span><br />\n<span style="font-weight:normal\;"><span style="font-family:tahoma\,sans-serif\;"><span style="font-size:10.0pt\;">*Qualifies for two (2) hours of the AGC/WCF Worker&#39\;s Comp Training</span></span></span><br />\n<br />\n<strong><span style="font-family:tahoma\,sans-serif\;"><span style="font-size:10.0pt\;">Presenter: Robert Weston &ndash\; Safety Management &amp\; Training Solutions</span></span></strong>
LOCATION:AGC Training Center 1260 South 3600 West Salt Lake City UT 84104
UID:e.3104.14118
SEQUENCE:3
DTSTAMP:20260421T035704Z
URL:https://members.agc-utah.org/events/details/qualified-rigger-signal-training-course-09-28-20-14118
END:VEVENT

END:VCALENDAR
