BEGIN:VCALENDAR
VERSION:2.0
PRODID:-//ChamberMaster//Event Calendar 2.0//EN
METHOD:PUBLISH
X-PUBLISHED-TTL:P3D
REFRESH-INTERVAL:P3D
CALSCALE:GREGORIAN
BEGIN:VEVENT
DTSTART:20191120T183000Z
DTEND:20191120T203000Z
X-MICROSOFT-CDO-ALLDAYEVENT:FALSE
SUMMARY:Reasonable Suspicion for Drug Testing (11.20.19)
DESCRIPTION:Tracie will educate us on drugs that are trending today\, how to recognize their presence on a jobsite and how to recognize impairment in employees. As a supervisor it's important to know what your responsibilities are and how to best determine a course of action\, so she will help us navigate those waters. She will cover the importance of documentation and how to legally protect your company when dealing with a reasonable suspicion situation.  The class is interactive and even fun when she breaks out her drunk goggles and activities.\n\n \n\nPresenter: Tracie Butterfield   Butterfield Onsite Drug Testing
X-ALT-DESC;FMTTYPE=text/html:<span style="font-weight:normal\;"><span style="font-family:tahoma\,sans-serif\;"><span style="font-size:10.0pt\;">Tracie will educate us on drugs that are trending today\, how to recognize their presence on a jobsite and how to recognize impairment in employees. As a supervisor it&#39\;s important to know what your responsibilities are and how to best determine a course of action\, so she will help us navigate those waters. She will cover the importance of documentation and how to legally protect your company when dealing with a reasonable suspicion situation.&nbsp\; The class is interactive and even fun when she breaks out her drunk goggles and activities.</span></span></span><br />\n&nbsp\;<br />\n<strong><span style="font-family:tahoma\,sans-serif\;"><span style="font-size:10.0pt\;">Presenter: Tracie Butterfield &ndash\; Butterfield Onsite Drug Testing </span></span></strong>
LOCATION:AGC of Utah 2207 South 1070 West Salt Lake City UT 84119
UID:e.3104.13972
SEQUENCE:3
DTSTAMP:20260420T204145Z
URL:https://members.agc-utah.org/events/details/reasonable-suspicion-for-drug-testing-11-20-19-13972
END:VEVENT

END:VCALENDAR
