BEGIN:VCALENDAR
VERSION:2.0
PRODID:-//ChamberMaster//Event Calendar 2.0//EN
METHOD:PUBLISH
X-PUBLISHED-TTL:P3D
REFRESH-INTERVAL:P3D
CALSCALE:GREGORIAN
BEGIN:VEVENT
DTSTART:20210714T180000Z
DTEND:20210714T190000Z
X-MICROSOFT-CDO-ALLDAYEVENT:FALSE
SUMMARY:Safe & Sound Program L&L - St. George (07.14.21)
DESCRIPTION:Every workplace should have a safety and health program that includes management leadership\, worker participation\, and a systematic approach to finding and fixing hazards.  This program teaches that safe workplaces are sound businesses.  This is a proactive program that will literally put you on the map as a place to work that has goo business practices. \n\n\n\nPresenter: Cynthia Kinslow\, Stephen Wade Auto
X-ALT-DESC;FMTTYPE=text/html:Every workplace should have a safety and health program that includes management leadership\, worker participation\, and a systematic approach to finding and fixing hazards.&nbsp\; This program teaches that safe workplaces are sound businesses.&nbsp\; This is a proactive program that will literally put you on the map as a place to work that has goo business practices.&nbsp\;<br />\n<br />\n<strong>Presenter: Cynthia Kinslow\, Stephen Wade Auto</strong>
LOCATION:Southern Utah AGC 230 North 1680 East B-1 St. George UT 84790
UID:e.3104.14290
SEQUENCE:3
DTSTAMP:20260420T101652Z
URL:https://members.agc-utah.org/events/details/safe-sound-program-l-l-st-george-07-14-21-14290
END:VEVENT

END:VCALENDAR
