BEGIN:VCALENDAR
VERSION:2.0
PRODID:-//ChamberMaster//Event Calendar 2.0//EN
METHOD:PUBLISH
X-PUBLISHED-TTL:P3D
REFRESH-INTERVAL:P3D
CALSCALE:GREGORIAN
BEGIN:VEVENT
DTSTART:20210106T170000Z
DTEND:20210106T190000Z
X-MICROSOFT-CDO-ALLDAYEVENT:FALSE
SUMMARY:Safety Eyewear & ANSI Standards - On Site Safe Site (01.06.21)
DESCRIPTION:Our mission with this training is to provide safety professionals the tools to make informed decisions to protect people's eyes\, decrease company liability\, as well as to help safety professionals become certified in the ANSI Z87.1 Standards.  \n\n\n\nYou will gain the following from attending this course:\n\n    1.  Help build a Safety Eyewear Program.\n\n    2.  Help employees reduce eye injuries on and off the job.\n\n    3.  Help reduce company liability and increase policy compliance.\n\n    4.  Hazard Material Assessment Recommendations. \n\n    5.  Select proper eyewear for each application/environment.\n\n    6.  Learn how to do a proper fit test of your eyewear.\n\n\n\nPresenter: Neil Powell -  Edge Eyewear
X-ALT-DESC;FMTTYPE=text/html:<div>Our mission with this training is to provide safety professionals the tools to make informed decisions to protect people&#39\;s eyes\, decrease company liability\, as well as to help safety professionals become certified in the ANSI Z87.1 Standards.&nbsp\;&nbsp\;<br />\n<br />\nYou will gain the following from attending this course:<br />\n&nbsp\; &nbsp\; 1.&nbsp\; Help build a Safety Eyewear Program.<br />\n&nbsp\; &nbsp\; 2.&nbsp\; Help employees reduce eye injuries on and off the job.<br />\n&nbsp\; &nbsp\; 3.&nbsp\; Help reduce company liability and increase policy compliance.<br />\n&nbsp\; &nbsp\; 4.&nbsp\; Hazard Material Assessment Recommendations.&nbsp\;<br />\n&nbsp\; &nbsp\; 5.&nbsp\; Select proper eyewear for each application/environment.<br />\n&nbsp\; &nbsp\; 6.&nbsp\; Learn how to do a proper fit test of your eyewear.<br />\n<br />\nPresenter: Neil Powell -&nbsp\; Edge Eyewear</div>\n\n<div>&nbsp\;</div>\n
LOCATION:Zoom Presentation *Login link will be sent the day before the event.
UID:e.3104.14174
SEQUENCE:3
DTSTAMP:20260420T194742Z
URL:https://members.agc-utah.org/events/details/safety-eyewear-ansi-standards-on-site-safe-site-01-06-21-14174
END:VEVENT

END:VCALENDAR
