BEGIN:VCALENDAR
VERSION:2.0
PRODID:-//ChamberMaster//Event Calendar 2.0//EN
METHOD:PUBLISH
X-PUBLISHED-TTL:P3D
REFRESH-INTERVAL:P3D
CALSCALE:GREGORIAN
BEGIN:VEVENT
DTSTART:20191029T190000Z
DTEND:20191029T200000Z
X-MICROSOFT-CDO-ALLDAYEVENT:FALSE
SUMMARY:Safety & Incident Support Webinar with Compatica (10.29.19)
DESCRIPTION:Register for Webinar \nAGC of America has teamed up with Compatica to place an intuitive\, obvious-use app right in the Supervisor's smartphone and the Superintendent's tablet\, facilitating on-the-spot accurate and comprehensive Workplace Incident reporting\, right there at the worksite. \n\n \n\nCome join us on our webinar to see how Compatica can help you reduce costs\, provide a defense against fraud\, and reduce paperwork.\n\n\n\nAfter registering\, you will receive a confirmation email containing information about joining the meeting.
X-ALT-DESC;FMTTYPE=text/html:<h2 style="font-style:italic\;"><span style="font-size:16px\;"><a href="https://zoom.us/meeting/register/33da2bbfa1e5b56766858a512be5123a"><strong><span style="color:#FFFFFF\;"><span style="background-color:#FF0000\;">Register for Webinar&nbsp\;</span></span></strong></a></span></h2>\n<span style="border:none windowtext 1.0pt\;padding:0in\;"><span style="color:#323130\;"><span style="font-family:tahoma\,sans-serif\;"><span style="font-size:10.0pt\;">AGC of America has teamed up with Compatica to place an intuitive\, obvious-use app right in the Supervisor&rsquo\;s smartphone and the Superintendent&rsquo\;s tablet\, facilitating on-the-spot accurate and comprehensive Workplace Incident reporting\, right there at the worksite. </span></span></span></span><br />\n&nbsp\;<br />\n<span style="border:none windowtext 1.0pt\;padding:0in\;"><span style="color:#323130\;"><span style="font-family:tahoma\,sans-serif\;"><span style="font-size:10.0pt\;">Come join us on our webinar to see how Compatica can help you reduce costs\, provide a defense against fraud\, and reduce paperwork.</span></span></span></span><br />\n<br />\n<span style="background-color:white\;"><span style="font-size:10pt\;"><span style="font-family:tahoma\,sans-serif\;"><span style="color:#323130\;">After registering\, you will receive a confirmation email containing information about joining the meeting.</span></span></span></span>&nbsp\;<br />\n&nbsp\;
LOCATION:
UID:e.3104.13975
SEQUENCE:3
DTSTAMP:20260420T192528Z
URL:https://members.agc-utah.org/events/details/safety-incident-support-webinar-with-compatica-10-29-19-13975
END:VEVENT

END:VCALENDAR
