BEGIN:VCALENDAR
VERSION:2.0
PRODID:-//ChamberMaster//Event Calendar 2.0//EN
METHOD:PUBLISH
X-PUBLISHED-TTL:P3D
REFRESH-INTERVAL:P3D
CALSCALE:GREGORIAN
BEGIN:VEVENT
DTSTART:20200416T173000Z
DTEND:20200416T183000Z
X-MICROSOFT-CDO-ALLDAYEVENT:FALSE
SUMMARY:SBA and Recovery Loans Webinar (04.16.20)
DESCRIPTION:CLICK HERE TO REGISTER!\n\n\n\nWith the current economic situation due to Covid-19\, small businesses with great products\, valuable costumers and free enterprise value are being forced into desperate situations. Whether required to work remote\, cancel or postpone opportunities or adapt to the current situation\, successful companies are now finding themselves in a financial bind.\n\n \n\nNOW CFO has teamed up with business leaders to educate and discuss with business owners and leaders on how to apply for relief funds and what to do in the meantime. Join us for a Virtual 'bring your own' lunch and learn webinar. You can expect an information session along with a Q&A.
X-ALT-DESC;FMTTYPE=text/html:<br />\n<a href="https://www.eventbrite.com/e/sba-disaster-ppp-loans-by-now-cfo-agc-upa-and-utah-mining-association-tickets-102206528478" style="color: rgb(7\, 130\, 193)\; font-family: &quot\;century gothic&quot\;\, sans-serif\; font-size: 13px\; background-color: rgb(255\, 255\, 255)\;"><span style="font-size: 16px\;"><strong><span style="color: rgb(255\, 255\, 255)\;"><span style="background-color: rgb(178\, 34\, 34)\;">CLICK HERE TO REGISTER!</span></span></strong></span></a><br />\n<br />\n<span style="font-family:century gothic\,sans-serif\;">With the current economic situation due to Covid-19\, small businesses with great products\, valuable costumers and free enterprise value are being forced into desperate situations. Whether required to work remote\, cancel or postpone opportunities or adapt to the current situation\, successful companies are now finding themselves in a financial bind.</span><br />\n&nbsp\;<br />\n<span style="font-family:century gothic\,sans-serif\;">NOW CFO has teamed up with business leaders to educate and discuss with business owners and leaders on how to apply for relief funds and what to do in the meantime. Join us for a Virtual &#39\;bring your own&#39\; lunch and learn webinar. You can expect an information session along with a Q&amp\;A.</span><br />\n<br />\n&nbsp\;
LOCATION:Live Webinar
UID:e.3104.14060
SEQUENCE:3
DTSTAMP:20260421T051540Z
URL:https://members.agc-utah.org/events/details/sba-and-recovery-loans-webinar-04-16-20-14060
END:VEVENT

END:VCALENDAR
