BEGIN:VCALENDAR
VERSION:2.0
PRODID:-//ChamberMaster//Event Calendar 2.0//EN
METHOD:PUBLISH
X-PUBLISHED-TTL:P3D
REFRESH-INTERVAL:P3D
CALSCALE:GREGORIAN
BEGIN:VEVENT
DTSTART:20210527T160000Z
DTEND:20210527T180000Z
X-MICROSOFT-CDO-ALLDAYEVENT:FALSE
SUMMARY:Social Media Content Creation & Strategies Webinar (05.27.21)
DESCRIPTION:REGISTER \n\n\n\nLearn how to maximize your company's social media by easily creating consistent and interesting posts through content management and calendaring.\n\n\n\nPresenter: Michelle McCullough\, DreamBoard Media
X-ALT-DESC;FMTTYPE=text/html:<br />\n<a href="https://us02web.zoom.us/webinar/register/WN_dJPaBtZ-StaPOeLQIleDkw"><span style="font-size:20px\;"><strong><span style="color:#FFFFFF\;"><span style="background-color:#B22222\;">REGISTER&nbsp\;</span></span></strong></span></a><br />\n<br />\nLearn how to maximize your company&#39\;s social media by easily creating consistent and interesting posts through content management and calendaring.<br />\n<br />\nPresenter: Michelle McCullough\, DreamBoard Media
LOCATION:ZOOM Webinar
UID:e.3104.14270
SEQUENCE:3
DTSTAMP:20260420T132656Z
URL:https://members.agc-utah.org/events/details/social-media-content-creation-strategies-webinar-05-27-21-14270
END:VEVENT

END:VCALENDAR
