BEGIN:VCALENDAR
VERSION:2.0
PRODID:-//ChamberMaster//Event Calendar 2.0//EN
METHOD:PUBLISH
X-PUBLISHED-TTL:P3D
REFRESH-INTERVAL:P3D
CALSCALE:GREGORIAN
BEGIN:VEVENT
DTSTART:20210224T170000Z
DTEND:20210224T190000Z
X-MICROSOFT-CDO-ALLDAYEVENT:FALSE
SUMMARY:Social Media Evangelists Webinar (02.24.21)
DESCRIPTION:Learn how to encourage employees to share your company's marketing message and maximize your marketing efforts. \n\n\n\nPresenter: Michelle McCullough\, DreamBoard Media    \n\n\n\nREGISTER HERE
X-ALT-DESC;FMTTYPE=text/html:Learn how to encourage employees to share your company&#39\;s marketing message and maximize your marketing efforts.&nbsp\;<br />\n<br />\nPresenter: Michelle McCullough\, DreamBoard Media&nbsp\;&nbsp\;&nbsp\;&nbsp\;<br />\n<br />\n<a href="https://us02web.zoom.us/webinar/register/WN_OGDz_pkiTm2CDYp-B5jiKQ"><span style="font-size:20px\;"><strong><span style="color:#FFFFFF\;"><span style="background-color:#B22222\;">REGISTER HERE</span></span></strong></span></a>
LOCATION:ZOOM Webinar
UID:e.3104.14206
SEQUENCE:3
DTSTAMP:20260420T182149Z
URL:https://members.agc-utah.org/events/details/social-media-evangelists-webinar-02-24-21-14206
END:VEVENT

END:VCALENDAR
