BEGIN:VCALENDAR
VERSION:2.0
PRODID:-//ChamberMaster//Event Calendar 2.0//EN
METHOD:PUBLISH
X-PUBLISHED-TTL:P3D
REFRESH-INTERVAL:P3D
CALSCALE:GREGORIAN
BEGIN:VEVENT
DTSTART:20200618T150000Z
DTEND:20200618T160000Z
X-MICROSOFT-CDO-ALLDAYEVENT:FALSE
SUMMARY:Social Media Tactics for the Construction Industry (06.18.20)
DESCRIPTION:Strategies and tips for construction marketing specialists or anyone who wants to increase their company presence and impact on social media. Key takeaways include:\n\n\n\n  Learn the four different types of social media marketing posts and when to use them.\n\n  Discover effective strategies for converting social media followers to website visitors AND eventually new EMPLOYEES.\n\n  Create a system that helps your organization create a social media plan that doesn't break the time bank.\n\n  Learn effective social media messages that cut through the noise and get your posts seen.\n\n  Discover simple tactics for increased engagement and followers.\n\n  Learn how we can unify together to help promote the construction industry in Utah.\n\n\n\nPresenter: Michelle McCullough\, Speak Michelle
X-ALT-DESC;FMTTYPE=text/html:Strategies and tips for construction marketing specialists or anyone who wants to increase their company presence and impact on social media. Key takeaways include:<br />\n<br />\n&#61623\; Learn the four different types of social media marketing posts and when to use them.<br />\n&#61623\; Discover effective strategies for converting social media followers to website visitors AND eventually new EMPLOYEES.<br />\n&#61623\; Create a system that helps your organization create a social media plan that doesn&#39\;t break the time bank.<br />\n&#61623\; Learn effective social media messages that cut through the noise and get your posts seen.<br />\n&#61623\; Discover simple tactics for increased engagement and followers.<br />\n&#61623\; Learn how we can unify together to help promote the construction industry in Utah.<br />\n<br />\n<strong>Presenter: Michelle McCullough\, Speak Michelle</strong>
LOCATION:Live Webinar *Meeting login will be sent the day before course - please enter accurate email address for each individual registered.
UID:e.3104.14086
SEQUENCE:3
DTSTAMP:20260421T073203Z
URL:https://members.agc-utah.org/events/details/social-media-tactics-for-the-construction-industry-06-18-20-14086
END:VEVENT

END:VCALENDAR
