BEGIN:VCALENDAR
VERSION:2.0
PRODID:-//ChamberMaster//Event Calendar 2.0//EN
METHOD:PUBLISH
X-PUBLISHED-TTL:P3D
REFRESH-INTERVAL:P3D
CALSCALE:GREGORIAN
BEGIN:VEVENT
DTSTART;VALUE=DATE:20210423
DTEND;VALUE=DATE:20210424
TRANSP:TRANSPARENT
X-MICROSOFT-CDO-ALLDAYEVENT:TRUE
SUMMARY:Spring Golf Scholarship Tournament - St. George (04.23.21)
DESCRIPTION:Sponsorship Opportunities
X-ALT-DESC;FMTTYPE=text/html:<br />\n<a href="https://chambermaster.blob.core.windows.net/userfiles/UserFiles/chambers/3104/File/2021SpringGolfSponsorshipForm1.pdf"><strong><span style="color:#FFFFFF\;"><span style="font-size:16px\;"><span style="background-color:#FF0000\;">Sponsorship Opportunities</span></span></span></strong></a><br />\n<br />\n&nbsp\;
LOCATION:Coral Canyon Golf Course 1925 N Canyon Greens Drive Washington UT 84780
UID:e.3104.14249
SEQUENCE:3
DTSTAMP:20260420T142927Z
URL:https://members.agc-utah.org/events/details/spring-golf-scholarship-tournament-st-george-04-23-21-14249
END:VEVENT

END:VCALENDAR
