BEGIN:VCALENDAR
VERSION:2.0
PRODID:-//ChamberMaster//Event Calendar 2.0//EN
METHOD:PUBLISH
X-PUBLISHED-TTL:P3D
REFRESH-INTERVAL:P3D
CALSCALE:GREGORIAN
BEGIN:VEVENT
DTSTART;VALUE=DATE:20200424
DTEND;VALUE=DATE:20200425
TRANSP:TRANSPARENT
X-MICROSOFT-CDO-ALLDAYEVENT:TRUE
SUMMARY:Spring Golf Tournament - St. George (04.24.20)
DESCRIPTION:Download Event Information
X-ALT-DESC;FMTTYPE=text/html:<br />\n<br />\n<span style="font-size:14px\;"><strong><span style="background-color:#FFFF00\;"><a href="https://chambermaster.blob.core.windows.net/userfiles/UserFiles/chambers/3104/File/Registration_Forms/2020SpringGolfRegistrationSponsorshipForms.pdf">Download Event Information</a> </span></strong></span>
LOCATION:Sky Mountain Golf Course 1030 North 2600 West Hurricane UT
UID:e.3104.14034
SEQUENCE:3
DTSTAMP:20260421T051530Z
URL:https://members.agc-utah.org/events/details/spring-golf-tournament-st-george-04-24-20-14034
END:VEVENT

END:VCALENDAR
