BEGIN:VCALENDAR
VERSION:2.0
PRODID:-//ChamberMaster//Event Calendar 2.0//EN
METHOD:PUBLISH
X-PUBLISHED-TTL:P3D
REFRESH-INTERVAL:P3D
CALSCALE:GREGORIAN
BEGIN:VEVENT
DTSTART;VALUE=DATE:20190426
DTEND;VALUE=DATE:20190427
TRANSP:TRANSPARENT
X-MICROSOFT-CDO-ALLDAYEVENT:TRUE
SUMMARY:Spring Golf Tournament - St. George (04.26.19)
DESCRIPTION:SOLD OUT!
X-ALT-DESC;FMTTYPE=text/html:<h1><strong><span style="color:#FF0000\;"><span style="font-family:verdana\;">SOLD OUT!</span></span></strong></h1>\n
LOCATION:Coral Canyon Golf Course 1925 N Canyon Greens Circle Washington UT 84780
UID:e.3104.13881
SEQUENCE:3
DTSTAMP:20260420T101833Z
URL:https://members.agc-utah.org/events/details/spring-golf-tournament-st-george-04-26-19-13881
END:VEVENT

END:VCALENDAR
