BEGIN:VCALENDAR
VERSION:2.0
PRODID:-//ChamberMaster//Event Calendar 2.0//EN
METHOD:PUBLISH
X-PUBLISHED-TTL:P3D
REFRESH-INTERVAL:P3D
CALSCALE:GREGORIAN
BEGIN:VEVENT
DTSTART;VALUE=DATE:20210604
DTEND;VALUE=DATE:20210605
TRANSP:TRANSPARENT
X-MICROSOFT-CDO-ALLDAYEVENT:TRUE
SUMMARY:Summer Golf Tournament (06.04.21) **SOLD OUT**
DESCRIPTION:**
X-ALT-DESC;FMTTYPE=text/html:<br />\n<span style="font-size:16px\;"><strong><span style="color:#FFFFFF\;">**</span></strong></span>
LOCATION:
UID:e.3104.14250
SEQUENCE:3
DTSTAMP:20260420T132615Z
URL:https://members.agc-utah.org/events/details/summer-golf-tournament-06-04-21-sold-out-14250
END:VEVENT

END:VCALENDAR
