BEGIN:VCALENDAR
VERSION:2.0
PRODID:-//ChamberMaster//Event Calendar 2.0//EN
METHOD:PUBLISH
X-PUBLISHED-TTL:P3D
REFRESH-INTERVAL:P3D
CALSCALE:GREGORIAN
BEGIN:VEVENT
DTSTART;VALUE=DATE:20200605
DTEND;VALUE=DATE:20200606
TRANSP:TRANSPARENT
X-MICROSOFT-CDO-ALLDAYEVENT:TRUE
SUMMARY:Summer Golf Tournament (06.05.20)
DESCRIPTION:Download registration information
X-ALT-DESC;FMTTYPE=text/html:<br />\n<span style="font-size:16px\;"><span style="font-family:verdana\;"><span style="background-color:#B22222\;"><a href="https://chambermaster.blob.core.windows.net/userfiles/UserFiles/chambers/3104/File/2020SummerGolfTournamentV2.pdf"><span style="color:#FFFFFF\;"><span style="font-size:20px\;">Download registration information</span></span></a><span style="font-size:20px\;"><span style="color:#FFFFFF\;"> </span></span></span></span></span>
LOCATION:
UID:e.3104.14035
SEQUENCE:3
DTSTAMP:20260421T072855Z
URL:https://members.agc-utah.org/events/details/summer-golf-tournament-06-05-20-14035
END:VEVENT

END:VCALENDAR
