BEGIN:VCALENDAR
VERSION:2.0
PRODID:-//ChamberMaster//Event Calendar 2.0//EN
METHOD:PUBLISH
X-PUBLISHED-TTL:P3D
REFRESH-INTERVAL:P3D
CALSCALE:GREGORIAN
BEGIN:VEVENT
DTSTART;VALUE=DATE:20190607
DTEND;VALUE=DATE:20190608
TRANSP:TRANSPARENT
X-MICROSOFT-CDO-ALLDAYEVENT:TRUE
SUMMARY:Summer Golf Tournament (06.07.19) SOLD OUT!
DESCRIPTION:SOLD OUT!
X-ALT-DESC;FMTTYPE=text/html:<br />\n<span style="color:#FFFFFF\;"><strong><span style="font-size:28px\;"><span style="background-color:#FF0000\;">SOLD OUT!</span></span></strong></span>
LOCATION:
UID:e.3104.13872
SEQUENCE:3
DTSTAMP:20260420T132614Z
URL:https://members.agc-utah.org/events/details/summer-golf-tournament-06-07-19-sold-out-13872
END:VEVENT

END:VCALENDAR
