BEGIN:VCALENDAR
VERSION:2.0
PRODID:-//ChamberMaster//Event Calendar 2.0//EN
METHOD:PUBLISH
X-PUBLISHED-TTL:P3D
REFRESH-INTERVAL:P3D
CALSCALE:GREGORIAN
BEGIN:VEVENT
DTSTART:20190319T173000Z
DTEND:20190319T190000Z
X-MICROSOFT-CDO-ALLDAYEVENT:FALSE
SUMMARY:Technology: Transforming your Retirement L&L (03.19.19)
DESCRIPTION:We're living longer - and healthier - than our predecessors thanks to dramatic advancements in health care over the last century.  And now\, thanks to technological innovations\, the way we age is transforming from living longer to living better.\n\n\n\nPresenter: Brian Bevan\, CFP - Morgan Stanley Wealth Management
X-ALT-DESC;FMTTYPE=text/html:We&#39\;re living longer - and healthier - than our predecessors thanks to dramatic advancements in health care over the last century.&nbsp\; And now\, thanks to technological innovations\, the way we age is transforming from living longer to living better.<br />\n<br />\n<strong>Presenter: Brian Bevan\, CFP - Morgan Stanley Wealth Management</strong>
LOCATION:AGC Headquarters 2207 South 1070 West Salt Lake City UT 84119
UID:e.3104.13877
SEQUENCE:3
DTSTAMP:20260420T090135Z
URL:https://members.agc-utah.org/events/details/technology-transforming-your-retirement-l-l-03-19-19-13877
END:VEVENT

END:VCALENDAR
