BEGIN:VCALENDAR
VERSION:2.0
PRODID:-//ChamberMaster//Event Calendar 2.0//EN
METHOD:PUBLISH
X-PUBLISHED-TTL:P3D
REFRESH-INTERVAL:P3D
CALSCALE:GREGORIAN
BEGIN:VEVENT
DTSTART:20200602T180000Z
DTEND:20200602T190000Z
X-MICROSOFT-CDO-ALLDAYEVENT:FALSE
SUMMARY:The Covid Advantage (Liability or Asset) - Live Webinar
DESCRIPTION:Presentation:\n\n1. Simple Covid-19 Compliance measures to keep a business safe.\n\n2.The law\, the enforcement\, and penalties and fines.\n\n3.The potential Company liability.\n\n4.The Reputation and Community Good Will from showing real concern for Covid-19 Compliance.\n\n\n\nPresenter: Robert Jensen\, JensenBayles LLP\, Attorneys & Counselors at Law
X-ALT-DESC;FMTTYPE=text/html:Presentation:<br />\n1. Simple Covid-19 Compliance measures to keep a business safe.<br />\n2.The law\, the enforcement\, and penalties and fines.<br />\n3.The potential Company liability.<br />\n4.The Reputation and Community Good Will from showing real concern for Covid-19 Compliance.<br />\n<br />\n<strong>Presenter: Robert Jensen\, JensenBayles LLP\, Attorneys &amp\; Counselors at Law</strong>
LOCATION:Live Webinar *Meeting login will be sent the day before course - please enter accurate email address for each individual registered.
UID:e.3104.14076
SEQUENCE:3
DTSTAMP:20260421T072918Z
URL:https://members.agc-utah.org/events/details/the-covid-advantage-liability-or-asset-live-webinar-14076
END:VEVENT

END:VCALENDAR
