BEGIN:VCALENDAR
VERSION:2.0
PRODID:-//ChamberMaster//Event Calendar 2.0//EN
METHOD:PUBLISH
X-PUBLISHED-TTL:P3D
REFRESH-INTERVAL:P3D
CALSCALE:GREGORIAN
BEGIN:VEVENT
DTSTART:20200529T180000Z
DTEND:20200529T190000Z
X-MICROSOFT-CDO-ALLDAYEVENT:FALSE
SUMMARY:The Upside of Stress: How to turn your stress from Foe to Friend - St. George (05.29.20)
DESCRIPTION:Learn the difference between how you think the way stress works\, and how it REALLY works. When stress is lowered\, productivity will increase\, and relationships with co-workers and customers will be strengthened. Improve your work and family relationships by implementing the principle "you don't build a roof until you have a foundation" into your life.\n\n\n\nPresenter: Derek Applegate\, Executive Coach\, Beyond How to Consulting
X-ALT-DESC;FMTTYPE=text/html:Learn the difference between how you think the way stress works\, and how it REALLY works. When stress is lowered\, productivity will increase\, and relationships with co-workers and customers will be strengthened. Improve your work and family relationships by implementing the principle &ldquo\;you don&rsquo\;t build a roof until you have a foundation&rdquo\; into your life.<br />\n<br />\n<strong>Presenter: Derek Applegate\, Executive Coach\, Beyond How to Consulting</strong>
LOCATION:Southern Utah AGC 230 North 1680 East B-1 St. George UT 84790
UID:e.3104.14071
SEQUENCE:3
DTSTAMP:20260421T071100Z
URL:https://members.agc-utah.org/events/details/the-upside-of-stress-how-to-turn-your-stress-from-foe-to-friend-st-george-05-29-20-14071
END:VEVENT

END:VCALENDAR
