BEGIN:VCALENDAR
VERSION:2.0
PRODID:-//ChamberMaster//Event Calendar 2.0//EN
METHOD:PUBLISH
X-PUBLISHED-TTL:P3D
REFRESH-INTERVAL:P3D
CALSCALE:GREGORIAN
BEGIN:VEVENT
DTSTART:20200901T160000Z
DTEND:20200901T180000Z
X-MICROSOFT-CDO-ALLDAYEVENT:FALSE
SUMMARY:Tools to Handle the Mental Health Impact of COVID-19 (09.01.20)
DESCRIPTION:Dr. Kane through the lens of evidence based practices provides construction businesses with timely information designed to improve the mental health and wellness of your employees. This workshop session will provide you as a Safety or HR manager with a proven tool box of practices and processes to recognize\, stabilize and address current mental health issues\, currently compounded by Covid-19. During the session\, time will be available for questions and feedback.\n\n\n\nPresenter: Dr. Christy Kane\, PhD
X-ALT-DESC;FMTTYPE=text/html:Dr. Kane through the lens of evidence based practices provides construction businesses with timely information designed to improve the mental health and wellness of your employees. This workshop session will provide you as a Safety or HR manager with a proven tool box of practices and processes to recognize\, stabilize and address current mental health issues\, currently compounded by Covid-19. During the session\, time will be available for questions and feedback.<br />\n<br />\n<strong>Presenter: Dr. Christy Kane\, PhD</strong>
LOCATION:Live Webinar *Meeting login will be sent the day before course - please enter accurate email address for each individual registered.
UID:e.3104.14112
SEQUENCE:3
DTSTAMP:20260421T022700Z
URL:https://members.agc-utah.org/events/details/tools-to-handle-the-mental-health-impact-of-covid-19-09-01-20-14112
END:VEVENT

END:VCALENDAR
