BEGIN:VCALENDAR
VERSION:2.0
PRODID:-//ChamberMaster//Event Calendar 2.0//EN
METHOD:PUBLISH
X-PUBLISHED-TTL:P3D
REFRESH-INTERVAL:P3D
CALSCALE:GREGORIAN
BEGIN:VEVENT
DTSTART:20190716T173000Z
DTEND:20190716T190000Z
X-MICROSOFT-CDO-ALLDAYEVENT:FALSE
SUMMARY:Top 10 Building Envelope Risks to Consider on your Next Project L&L (07.16.19)
DESCRIPTION:The building envelope is the highest risk element of construction. Often\, the contractors are taking on a large portion of this risk. With increased building complexity\, stringent owner requirements\, vague design documents\, and diminishing labor pool\, these risks are higher than ever. This presentation will summarize the top 10 building envelope issues based on our observations in the field\, and will include a discussion on how contractors can address these issues through their QC program\n\n\n\nLearning Objectives:\n\n	Review the general concepts of building envelope performance\n	Identify and review the top 10 building highest risks at the building envelope\n	Review potential QC procedures by contractors to reduce these risks\n	Identify useful and cost effective test methods to verify performance\n\nPresenter:  Rick Ziegler\, Morrison Hershfield Building Consultants
X-ALT-DESC;FMTTYPE=text/html:<br />\n<span style="font-family:tahoma\,sans-serif\;"><span style="font-size:10pt\;">The building envelope is the highest risk element of construction. Often\, the contractors are taking on a large portion of this risk. With increased building complexity\, stringent owner requirements\, vague design documents\, and diminishing labor pool\, these risks are higher than ever. This presentation will summarize the top 10 building envelope issues based on our observations in the field\, and will include a discussion on how contractors can address these issues through their QC program</span></span><br />\n<br />\n<span style="font-family:tahoma\,sans-serif\;"><span style="font-size:10.0pt\;">Learning Objectives:</span></span>\n<ul>\n	<li><span style="font-family:tahoma\,sans-serif\;"><span style="font-size:10pt\;">Review the general concepts of building envelope performance</span></span></li>\n	<li><span style="font-family:tahoma\,sans-serif\;"><span style="font-size:10pt\;">Identify and review the top 10 building highest risks at the building envelope</span></span></li>\n	<li><span style="font-family:tahoma\,sans-serif\;"><span style="font-size:10pt\;">Review potential QC procedures by contractors to reduce these risks</span></span></li>\n	<li><span style="font-family:tahoma\,sans-serif\;"><span style="font-size:10pt\;">Identify useful and cost effective test methods to verify performance</span></span></li>\n</ul>\n<strong><font face="tahoma\, sans-serif"><span style="font-size: 13.3333px\;">Presenter:&nbsp\; Rick Ziegler\, Morrison Hershfield Building Consultants</span></font></strong>
LOCATION:AGC Headquarters 2207 South 1070 West Salt Lake City UT 84119
UID:e.3104.13929
SEQUENCE:3
DTSTAMP:20260420T145221Z
URL:https://members.agc-utah.org/events/details/top-10-building-envelope-risks-to-consider-on-your-next-project-l-l-07-16-19-13929
END:VEVENT

END:VCALENDAR
