BEGIN:VCALENDAR
VERSION:2.0
PRODID:-//ChamberMaster//Event Calendar 2.0//EN
METHOD:PUBLISH
X-PUBLISHED-TTL:P3D
REFRESH-INTERVAL:P3D
CALSCALE:GREGORIAN
BEGIN:VEVENT
DTSTART:20210126T153000Z
DTEND:20210126T233000Z
X-MICROSOFT-CDO-ALLDAYEVENT:FALSE
SUMMARY:Traffic Control Maintainer (01.26.21) ZOOM & In Person
DESCRIPTION:The TCM Seminar will educate attendees in the Standards for Work Zone Traffic Control as printed in the Utah MUTCD\, 2009 Edition.  The seminar will be taught by an approved UDOT instructor.\n\n\n\nThis class includes instruction\, class material\, completion certificates.\n\n\n\nAny Cancellations or change of dates 48 hours before the start of class\, will be accepted.  All no shows and cancellations after the class has occurred will be charged an extra fee of $25.
X-ALT-DESC;FMTTYPE=text/html:The TCM Seminar will educate attendees in the Standards for Work Zone Traffic Control as printed in the Utah MUTCD\, 2009 Edition.&nbsp\; The seminar will be taught by an approved UDOT&nbsp\;instructor.<br />\n<br />\nThis class includes instruction\, class material\, completion certificates.<br />\n<br />\n<strong>Any Cancellations or change of dates 48 hours before the start of class\, will be accepted.&nbsp\; All no shows and cancellations after the class has occurred will be charged an extra fee of $25.</strong>
LOCATION:Instruction taught via ZOOM In person TEST: AGC of Utah Headquarters 2207 South 1070 West Salt Lake City UT 84119
UID:e.3104.14199
SEQUENCE:3
DTSTAMP:20260420T210743Z
URL:https://members.agc-utah.org/events/details/traffic-control-maintainer-01-26-21-zoom-in-person-14199
END:VEVENT

END:VCALENDAR
