BEGIN:VCALENDAR
VERSION:2.0
PRODID:-//ChamberMaster//Event Calendar 2.0//EN
METHOD:PUBLISH
X-PUBLISHED-TTL:P3D
REFRESH-INTERVAL:P3D
CALSCALE:GREGORIAN
BEGIN:VEVENT
DTSTART:20210405T143000Z
DTEND:20210405T213000Z
X-MICROSOFT-CDO-ALLDAYEVENT:FALSE
SUMMARY:Traffic Control Maintainer - St. George (04.05.21)
DESCRIPTION:The AGC is pleased to announce a one-day seminar for the Traffic Control Maintainer training.\n\n\n\nThe seminar will educate attendees in the Standards for Work Zone Traffic Control as printed in Part VI of the MUTCD Book 2011 Edition.\n\n\n\nThe seminar will be taught by an approved UDOT instructor.  This class includes instruction\, class material\, completion certificates and lunch.\n\n\n\nThis class is open to all construction industry personnel.
X-ALT-DESC;FMTTYPE=text/html:<br />\nThe AGC is pleased to announce a one-day seminar for the Traffic Control Maintainer training.<br />\n<br />\nThe seminar will educate attendees in the Standards for Work Zone Traffic Control as printed in Part VI of the MUTCD&nbsp\;Book 2011 Edition.<br />\n<br />\nThe seminar will be taught by an approved UDOT instructor.&nbsp\; This class includes instruction\, class material\, completion certificates and lunch.<br />\n<br />\nThis class is open to all construction industry personnel.
LOCATION:AGC Southern Utah 230 North 1680 East B-1 St. George UT 84790 *In Person | Virtual Instructor
UID:e.3104.14240
SEQUENCE:3
DTSTAMP:20260420T142748Z
URL:https://members.agc-utah.org/events/details/traffic-control-maintainer-st-george-04-05-21-14240
END:VEVENT

END:VCALENDAR
