BEGIN:VCALENDAR
VERSION:2.0
PRODID:-//ChamberMaster//Event Calendar 2.0//EN
METHOD:PUBLISH
X-PUBLISHED-TTL:P3D
REFRESH-INTERVAL:P3D
CALSCALE:GREGORIAN
BEGIN:VEVENT
DTSTART;VALUE=DATE:20200925
DTEND;VALUE=DATE:20200926
TRANSP:TRANSPARENT
X-MICROSOFT-CDO-ALLDAYEVENT:TRUE
SUMMARY:Trapshoot Tournament (09.25.20)
DESCRIPTION:To minimize team wait times\, this event will be shot in flights (approximately 6) consisting of 8 teams (40 shooters) per flight. House and flight times will be assigned to each team on a first come first serve basis. Teams will be notified of their flight times approximately one week prior to the event. Note: Flights will begin at 11:00 a.m. and will run approximately every 30 minutes thereafter. Teams must be ready at their assigned trap house 10 minutes before they are scheduled to shoot.\n\n\n\nIf you are planning to practice prior to the competition you will need to plan accordingly\, practice is not included in the Tournament fee. Practice rounds can be purchased directly from the gun range. Practice houses will be available between 9:00 a.m. and approximately 10:30 a.m. only. *Note: Houses will be cleared for the event to start at 11:00 a.m.\n\n\n\n\n\nClick HERE to download Registration Form
X-ALT-DESC;FMTTYPE=text/html:To minimize team wait times\, this event will be shot in flights (approximately 6) consisting of 8 teams (40 shooters) per flight. House and flight times will be assigned to each team on a first come first serve basis. Teams will be notified of their flight times approximately one week prior to the event. Note: Flights will begin at 11:00 a.m. and will run approximately every 30 minutes thereafter. Teams must be ready at their assigned trap house 10 minutes before they are scheduled to shoot.<br />\n<br />\nIf you are planning to practice prior to the competition you will need to plan accordingly\, practice is not included in the Tournament fee. Practice rounds can be purchased directly from the gun range. Practice houses will be available between 9:00 a.m. and approximately 10:30 a.m. only. *Note: Houses will be cleared for the event to start at 11:00 a.m.<br />\n<br />\n<br />\n<strong font-size:="" style="color: rgb(51\, 51\, 51)\; font-family: sans-serif\, Arial\, Verdana\, " trebuchet=""><span style="font-size: 16px\;">Click&nbsp\;<a href="https://chambermaster.blob.core.windows.net/userfiles/UserFiles/chambers/3104/File/2020TrapShootRegistration.pdf">HERE&nbsp\;</a>to download Registration Form</span></strong>
LOCATION:Lee Kay Public Shooting Range 6000 West 2100 South Salt Lake City UT 84128
UID:e.3104.14038
SEQUENCE:3
DTSTAMP:20260421T022526Z
URL:https://members.agc-utah.org/events/details/trapshoot-tournament-09-25-20-14038
END:VEVENT

END:VCALENDAR
