BEGIN:VCALENDAR
VERSION:2.0
PRODID:-//ChamberMaster//Event Calendar 2.0//EN
METHOD:PUBLISH
X-PUBLISHED-TTL:P3D
REFRESH-INTERVAL:P3D
CALSCALE:GREGORIAN
BEGIN:VEVENT
DTSTART:20220517T140000Z
DTEND:20220517T230000Z
X-MICROSOFT-CDO-ALLDAYEVENT:FALSE
SUMMARY:Trenching & Excavation Hazards in Construction Safety Training (05.17.22)
DESCRIPTION:AGC of America\, supported by a Susan Harwood Federal Training Grant\, developed the Trenching & Excavation Hazards in Construction Safety Training.  According to the Bureau of Labor Statistics (BLS)\, from 2015 to 2018\, the Census of Fatal Occupational Injuries (CFOI) reported 103 total trenching and excavation-related deaths\, an average of 25 per year over this 4-year period. Also\, the OSHA Information System (OIS) Accident Investigation Report shows that between FY 2013   FY 2017\, there were a total of 156 incidents reported in the construction industry. Moreover\, between October 2018 and September 2019\, there were 1\,499 citations and more than $7\,000\,000 in penalties issued to construction employers for failing to meet their compliance obligations under Subpart P.\n\n \n\nTarget Audience\n\n	Company Officers\n	Estimators\n	Managers\n	Project Managers\n	Supervisors\n	Foremen\n	Both Union and Non-union Contractors\n\nTopics Covered\n\n\n	Injury\, Illness\, and fatality statistics\n	Frequently cited standards\n	Utilities protection\n	Common hazards\n	Soil testing and classification\n	Protective systems\n	Review of the agency priority goal\n	And much more...\n\nThis is a one-day course. You can register for either the May 17th or May 18th class. This course will be approved for 0.8 IACET CEUs\, for those attendees who are interested in continuing education credits. \n\n \n\n0.8 IACET CEUs | The Associated General Contractors of America (AGC) has been accredited as an Accredited Provider by The International Association for Continuing Education and Training (IACET). In obtaining this accreditation\, AGC has demonstrated that it complies with the ANSI/IACET Standard which is recognized internationally as a standard of good practice. As a result of their Accredited Provider status\, AGC is authorized to offer IACET CEUs for its programs that qualify under the ANSI/IACET Standard.\n\n \n\nInstructors: James T. Goss\, CHST (Sr. Safety Consultant\, HCSS)\, Stephen M. Kinn\, MSOH (President\, Elite Health and Safety Services)\, Robert W. Emmerich\, PE\, CHST\, CIT (President\, Safe-Con\, LLC)
X-ALT-DESC;FMTTYPE=text/html:<span style="font-family:century gothic\,sans-serif\;">AGC of America\, supported by a Susan Harwood Federal Training Grant\, developed the Trenching &amp\; Excavation Hazards in Construction Safety Training.&nbsp\;&nbsp\;</span><span style="font-family:century gothic\,sans-serif\;">According to the Bureau of Labor Statistics (BLS)\, from 2015 to 2018\, the Census of Fatal Occupational Injuries (CFOI) reported 103 total trenching and excavation-related deaths\, an average of 25 per year over this 4-year period. Also\, the OSHA Information System (OIS) Accident Investigation Report shows that between FY 2013 &ndash\; FY 2017\, there were a total of 156 incidents reported in the construction industry. Moreover\, between October 2018 and September 2019\, there were 1\,499 citations and more than $7\,000\,000 in penalties issued to construction employers for failing to meet their compliance obligations under Subpart P.</span><br />\n&nbsp\;<br />\n<span style="font-family:century gothic\,sans-serif\;">Target Audience</span>\n<ul>\n	<li><span style="font-family:century gothic\,sans-serif\;">Company Officers</span></li>\n	<li><span style="font-family:century gothic\,sans-serif\;">Estimators</span></li>\n	<li><span style="font-family:century gothic\,sans-serif\;">Managers</span></li>\n	<li><span style="font-family:century gothic\,sans-serif\;">Project Managers</span></li>\n	<li><span style="font-family:century gothic\,sans-serif\;">Supervisors</span></li>\n	<li><span style="font-family:century gothic\,sans-serif\;">Foremen</span></li>\n	<li><span style="font-family:century gothic\,sans-serif\;">Both Union and Non-union Contractors</span></li>\n</ul>\n<span style="font-family:century gothic\,sans-serif\;">Topics Covered</span>\n\n<ul>\n	<li><span style="font-family:century gothic\,sans-serif\;">Injury\, Illness\, and fatality statistics</span></li>\n	<li><span style="font-family:century gothic\,sans-serif\;">Frequently cited standards</span></li>\n	<li><span style="font-family:century gothic\,sans-serif\;">Utilities protection</span></li>\n	<li><span style="font-family:century gothic\,sans-serif\;">Common hazards</span></li>\n	<li><span style="font-family:century gothic\,sans-serif\;">Soil testing and classification</span></li>\n	<li><span style="font-family:century gothic\,sans-serif\;">Protective systems</span></li>\n	<li><span style="font-family:century gothic\,sans-serif\;">Review of the agency priority goal</span></li>\n	<li><span style="font-family:century gothic\,sans-serif\;">And much more...</span></li>\n</ul>\n<span style="font-family:century gothic\,sans-serif\;">This is a one-day course. You can register for either the May 17<sup>th</sup> or May 18<sup>th</sup> class. This course will be approved for 0.8 IACET CEUs\, for those attendees who are interested in continuing education credits. </span><br />\n&nbsp\;<br />\n<strong><span style="font-family:century gothic\,sans-serif\;">0.8 IACET CEUs | The Associated General Contractors of America (AGC) has been accredited as an Accredited Provider by The International Association for Continuing Education and Training (IACET). In obtaining this accreditation\, AGC has demonstrated that it complies with the ANSI/IACET Standard which is recognized internationally as a standard of good practice. As a result of their Accredited Provider status\, AGC is authorized to offer IACET CEUs for its programs that qualify under the ANSI/IACET Standard.</span></strong><br />\n&nbsp\;<br />\n<strong><span style="font-family:century gothic\,sans-serif\;">Instructors: James T. Goss\, CHST (Sr. Safety Consultant\, HCSS)\, Stephen M. Kinn\, MSOH (President\, Elite Health and Safety Services)\, Robert W. Emmerich\, PE\, CHST\, CIT (President\, Safe-Con\, LLC)</span></strong>
LOCATION:AGC Training Center 2229 South 1070 West Salt Lake City UT 84119
UID:e.3104.14443
SEQUENCE:3
DTSTAMP:20260422T043512Z
URL:https://members.agc-utah.org/events/details/trenching-excavation-hazards-in-construction-safety-training-05-17-22-14443
END:VEVENT

END:VCALENDAR
